BEGIN:VCALENDAR
VERSION:2.0
PRODID:-//ChamberMaster//Event Calendar 2.0//EN
METHOD:PUBLISH
X-PUBLISHED-TTL:P3D
REFRESH-INTERVAL:P3D
CALSCALE:GREGORIAN
BEGIN:VEVENT
DTSTART:20250329T150000Z
DTEND:20250329T160000Z
X-MICROSOFT-CDO-ALLDAYEVENT:FALSE
SUMMARY:Cuentos Bilingues - Bilingual Storytime
DESCRIPTION:Join us for a morning of stories! We will be telling stories in both Spanish and English! Listen\, learn\, and dance! Geared for little ones under 5 years old and their caregivers. No registration required. \n\n Juntense con nosotros para una ma ana de cuentos!   Vamos a compartir cuentos en espa ol e ingles!   Escucha\, aprenda y baila!  Este evento es para peque os hasta 5 a os de edad y sus familias.
X-ALT-DESC;FMTTYPE=text/html:Join us for a morning of stories! We will be telling stories in both Spanish and English! Listen\, learn\, and dance! Geared for little ones under 5 years old and their caregivers. No registration required.&nbsp\;<br />\n&iexcl\;Juntense con nosotros para una ma&ntilde\;ana de cuentos!&nbsp\; &iexcl\;Vamos a compartir cuentos en espa&ntilde\;ol e ingles!&nbsp\; &iexcl\;Escucha\, aprenda y baila!&nbsp\; Este evento es para peque&ntilde\;os hasta 5 a&ntilde\;os de edad y sus familias.
LOCATION:George Culver Community Library - Sauk City
UID:e.1184.34876
SEQUENCE:3
DTSTAMP:20260419T115712Z
URL:http://members.saukprairie.com/events/details/cuentos-bilingues-bilingual-storytime-34876
END:VEVENT

END:VCALENDAR
