BEGIN:VCALENDAR
VERSION:2.0
PRODID:-//ChamberMaster//Event Calendar 2.0//EN
METHOD:PUBLISH
X-PUBLISHED-TTL:P3D
REFRESH-INTERVAL:P3D
CALSCALE:GREGORIAN
BEGIN:VEVENT
DTSTART:20181112T200000Z
DTEND:20181113T010000Z
X-MICROSOFT-CDO-ALLDAYEVENT:FALSE
SUMMARY:Culver's Career Fair
DESCRIPTION:Join us at Culver's of Sauk City\, Monday November 12th from 2-7pm for opportunities that'll fit into any schedule! If you like flexible hours and great pay\, stop in to learn more about us.\n\n\n\nNo appointment necessary - Onsite interviews and applicaitons.
X-ALT-DESC;FMTTYPE=text/html:Join us at Culver&#39\;s of Sauk City\, Monday November 12th from 2-7pm for opportunities that&#39\;ll fit into any schedule! If you like flexible hours and great pay\, stop in to learn more about us.<br />\n<br />\nNo appointment necessary - Onsite interviews and applicaitons.&nbsp\;&nbsp\;&nbsp\;&nbsp\;
LOCATION:716 Phillips Blvd. Sauk City\, WI 53583
UID:e.1184.21429
SEQUENCE:3
DTSTAMP:20260424T021957Z
URL:http://members.saukprairie.com/events/details/culver-s-career-fair-21429
END:VEVENT

END:VCALENDAR
