BEGIN:VCALENDAR
VERSION:2.0
PRODID:-//ChamberMaster//Event Calendar 2.0//EN
METHOD:PUBLISH
X-PUBLISHED-TTL:P3D
REFRESH-INTERVAL:P3D
CALSCALE:GREGORIAN
BEGIN:VEVENT
DTSTART:20240305T230000Z
DTEND:20240306T020000Z
X-MICROSOFT-CDO-ALLDAYEVENT:FALSE
SUMMARY:Culver's Share Night
DESCRIPTION:Make Your Meal Matter\n\n\n\nTuesday\, March 5 from 5-8pm\n\n\n\nJoin us in supporting Sauk Prairie Solar Schools\, as 10% of all sales will be donated. Sauk Prairie Solar Schools is promoting a future installation of rooftop solar panels on our school district buildings. Their aim is to have more than half of their energy use offset by solar systems.\n\n\n\nJoin us and consider giving what you can to our local cause today.\n\n\n\nThank you for your support!
X-ALT-DESC;FMTTYPE=text/html:<strong>Make Your Meal Matter</strong><br />\n<br />\nTuesday\, March 5 from 5-8pm<br />\n<br />\nJoin us in supporting Sauk Prairie Solar Schools\, as 10% of all sales will be donated. Sauk Prairie Solar Schools is promoting a future installation of rooftop solar panels on our school district buildings. Their aim is to have more than half of their energy use offset by solar systems.<br />\n<br />\nJoin us and consider giving what you can to our local cause today.<br />\n<br />\nThank you for your support!
LOCATION:Culver's Sauk City
UID:e.1184.31575
SEQUENCE:3
DTSTAMP:20260419T231801Z
URL:http://members.saukprairie.com/events/details/culver-s-share-night-31575
END:VEVENT

END:VCALENDAR
