BEGIN:VCALENDAR
VERSION:2.0
PRODID:-//ChamberMaster//Event Calendar 2.0//EN
METHOD:PUBLISH
X-PUBLISHED-TTL:P3D
REFRESH-INTERVAL:P3D
CALSCALE:GREGORIAN
BEGIN:VEVENT
DTSTART:20250214T000000Z
DTEND:20250214T020000Z
X-MICROSOFT-CDO-ALLDAYEVENT:FALSE
SUMMARY:Cupid's Meat Raffle
DESCRIPTION:Come win some meat! There will be 10 rounds\, $1 per ticket each round. There may also be a 50/50 cash raffle round dependent on interest.\n\n \n\nAs usual\, there will be drink and prize giveaways also sprinkled throughout. Who knows\, we may even play match maker at this Cupid's Themed Meat Raffle?
X-ALT-DESC;FMTTYPE=text/html:<div>\n<div>Come win some meat! There will be 10 rounds\, $1 per ticket each round. There may also be a 50/50 cash raffle round dependent on interest.<br />\n&nbsp\;</div>\n\n<div>As usual\, there will be drink and prize giveaways also sprinkled throughout. Who knows\, we may even play match maker at this Cupid&#39\;s Themed Meat Raffle?&nbsp\;</div>\n</div>\n
LOCATION:MT Bottle Brewing Company
UID:e.1184.34590
SEQUENCE:3
DTSTAMP:20260419T121408Z
URL:http://members.saukprairie.com/events/details/cupid-s-meat-raffle-34590
END:VEVENT

END:VCALENDAR
