BEGIN:VCALENDAR
VERSION:2.0
PRODID:-//ChamberMaster//Event Calendar 2.0//EN
METHOD:PUBLISH
X-PUBLISHED-TTL:P3D
REFRESH-INTERVAL:P3D
CALSCALE:GREGORIAN
BEGIN:VEVENT
DTSTART:20230303T180000Z
DTEND:20230303T230000Z
X-MICROSOFT-CDO-ALLDAYEVENT:FALSE
SUMMARY:Curiosity Collection No. 8 Release - Vintage Red Dress Whiskey
DESCRIPTION:Curiosity Collection No. 8 - Vintage Red Dress Whiskey Release\n\nJoin us to experience a guided tasting with Distiller Tom Lenerz and taste 3 expressions of Wollersheim Round Top Rye Whiskey. You will sample Round Top Rye\, the award-winning Single Barrel Rye Whiskey\, and the 8th release in our Curiosity Collection\; Vintage Red Dress. The tasting can only be purchased in store.\n\nThere are fewer than 300 bottles of this whiskey.\n\nHear directly from our distiller about the impact of the cooperage on each of the whiskeys\, while learning about barrel selection and single barrel vs blended products.\n\nVintage Red Dress is the second of two barrels of whiskey produced using our Round Top Rye mash bill and aged entirely in used red port barrels from the winery. The first barrel was released in the spring of 2019 after spending 2 years aging in the port barrels. This release has spent an additional 4 years in port barrels\, for a total time of 6 years and 85 days.\n\nVintage Red Dress is the eighth release in our Curiosity Collection. The Curiosity Collection showcases unique tweaks to our distilling traditions. Each release introduces unique variations of fruit or grain varieties\, barrel types\, or production techniques.\n\nRed Dress will be available beginning at 12 pm in the distillery store and the featured tasting will take place at 4 pm. Cheers!
X-ALT-DESC;FMTTYPE=text/html:<div color:="" font-size:="" segoe="" ui="">\n<div class="x11i5rnm xat24cr x1mh8g0r x1vvkbs xdj266r" style="margin: 0px\; overflow-wrap: break-word\; font-family: &quot\;Segoe UI Historic&quot\;\, &quot\;Segoe UI&quot\;\, Helvetica\, Arial\, sans-serif\; color: rgb(5\, 5\, 5)\; font-size: 15px\;">Curiosity Collection No. 8 - Vintage Red Dress Whiskey Release</div>\n\n<div class="x11i5rnm xat24cr x1mh8g0r x1vvkbs xtlvy1s" style="margin: 0.5em 0px 0px\; overflow-wrap: break-word\; font-family: &quot\;Segoe UI Historic&quot\;\, &quot\;Segoe UI&quot\;\, Helvetica\, Arial\, sans-serif\; color: rgb(5\, 5\, 5)\; font-size: 15px\;">Join us to experience a guided tasting with Distiller Tom Lenerz and taste 3 expressions of Wollersheim Round Top Rye Whiskey. You will sample Round Top Rye\, the award-winning Single Barrel Rye Whiskey\, and the 8th release in our Curiosity Collection\; Vintage Red Dress. The tasting can only be purchased in store.</div>\n\n<div class="x11i5rnm xat24cr x1mh8g0r x1vvkbs xtlvy1s" style="margin: 0.5em 0px 0px\; overflow-wrap: break-word\; font-family: &quot\;Segoe UI Historic&quot\;\, &quot\;Segoe UI&quot\;\, Helvetica\, Arial\, sans-serif\; color: rgb(5\, 5\, 5)\; font-size: 15px\;">There are fewer than 300 bottles of this whiskey.</div>\n\n<div class="x11i5rnm xat24cr x1mh8g0r x1vvkbs xtlvy1s" style="margin: 0.5em 0px 0px\; overflow-wrap: break-word\; font-family: &quot\;Segoe UI Historic&quot\;\, &quot\;Segoe UI&quot\;\, Helvetica\, Arial\, sans-serif\; color: rgb(5\, 5\, 5)\; font-size: 15px\;">Hear directly from our distiller about the impact of the cooperage on each of the whiskeys\, while learning about barrel selection and single barrel vs blended products.</div>\n\n<div class="x11i5rnm xat24cr x1mh8g0r x1vvkbs xtlvy1s" style="margin: 0.5em 0px 0px\; overflow-wrap: break-word\; font-family: &quot\;Segoe UI Historic&quot\;\, &quot\;Segoe UI&quot\;\, Helvetica\, Arial\, sans-serif\; color: rgb(5\, 5\, 5)\; font-size: 15px\;">Vintage Red Dress is the second of two barrels of whiskey produced using our Round Top Rye mash bill and aged entirely in used red port barrels from the winery. The first barrel was released in the spring of 2019 after spending 2 years aging in the port barrels. This release has spent an additional 4 years in port barrels\, for a total time of 6 years and 85 days.</div>\n\n<div class="x11i5rnm xat24cr x1mh8g0r x1vvkbs xtlvy1s" style="margin: 0.5em 0px 0px\; overflow-wrap: break-word\; font-family: &quot\;Segoe UI Historic&quot\;\, &quot\;Segoe UI&quot\;\, Helvetica\, Arial\, sans-serif\; color: rgb(5\, 5\, 5)\; font-size: 15px\;">Vintage Red Dress is the eighth release in our Curiosity Collection. The Curiosity Collection showcases unique tweaks to our distilling traditions. Each release introduces unique variations of fruit or grain varieties\, barrel types\, or production techniques.</div>\n\n<div class="x11i5rnm xat24cr x1mh8g0r x1vvkbs xtlvy1s" style="margin: 0.5em 0px 0px\; overflow-wrap: break-word\; font-family: &quot\;Segoe UI Historic&quot\;\, &quot\;Segoe UI&quot\;\, Helvetica\, Arial\, sans-serif\; color: rgb(5\, 5\, 5)\; font-size: 15px\;">Red Dress will be available beginning at 12 pm in the distillery store and the featured tasting will take place at 4 pm. Cheers!&nbsp\;</div>\n</div>\n
LOCATION:Wollersheim Winery & Distillery
UID:e.1184.30644
SEQUENCE:3
DTSTAMP:20260420T165050Z
URL:http://members.saukprairie.com/events/details/curiosity-collection-no-8-release-vintage-red-dress-whiskey-30644
END:VEVENT

END:VCALENDAR
