BEGIN:VCALENDAR
VERSION:2.0
PRODID:-//ChamberMaster//Event Calendar 2.0//EN
METHOD:PUBLISH
X-PUBLISHED-TTL:P3D
REFRESH-INTERVAL:P3D
CALSCALE:GREGORIAN
BEGIN:VEVENT
DTSTART;VALUE=DATE:20180427
DTEND;VALUE=DATE:20180429
TRANSP:TRANSPARENT
X-MICROSOFT-CDO-ALLDAYEVENT:TRUE
SUMMARY:Customer Appreciation
DESCRIPTION:Join us Friday and Saturday for CUSTOMER APPRECIATION DAYS! Stop by and spin the virtual prize wheel and win accessory discounts or bill credits! Most phones are on sale (even iPhones!) until May 6th. See you there!
X-ALT-DESC;FMTTYPE=text/html:Join us Friday and Saturday for CUSTOMER APPRECIATION DAYS! Stop by and spin the virtual prize wheel and win accessory discounts or bill credits! Most phones are on sale (even iPhones!) until May 6th. See you there!&nbsp\;
LOCATION:Sauk City U.S. Cellular
UID:e.1184.18064
SEQUENCE:3
DTSTAMP:20260424T125529Z
URL:http://members.saukprairie.com/events/details/customer-appreciation-18064
END:VEVENT

END:VCALENDAR
