BEGIN:VCALENDAR
VERSION:2.0
PRODID:-//ChamberMaster//Event Calendar 2.0//EN
METHOD:PUBLISH
X-PUBLISHED-TTL:P3D
REFRESH-INTERVAL:P3D
CALSCALE:GREGORIAN
BEGIN:VEVENT
DTSTART;VALUE=DATE:20230621
DTEND;VALUE=DATE:20230622
TRANSP:TRANSPARENT
X-MICROSOFT-CDO-ALLDAYEVENT:TRUE
SUMMARY:Customer Appreciation Day
DESCRIPTION:Consumers Cooperative Customer Appreciation Day!\n\nJune 21st\, 2023\n\n\n\n5  OFF PER GALLON OF GAS\n\n\n\nFREE hotdogs\, Brats\, Donuts\, Sub Express samples\, Coffee\, and Fountain Drinks!
X-ALT-DESC;FMTTYPE=text/html:Consumers Cooperative Customer Appreciation Day!<br />\nJune 21st\, 2023<br />\n<br />\n<b style="color: rgb(32\, 33\, 36)\; font-family: &quot\;Google Sans&quot\;\, Roboto\, arial\, sans-serif\; font-size: 14px\;">5&cent\; OFF PER GALLON OF GAS</b><br />\n<br />\nFREE hotdogs\, Brats\, Donuts\, Sub Express samples\, Coffee\, and Fountain Drinks!<br />\n&nbsp\;
LOCATION:Both Locations! Sauk City: 758 Phillips Blvd. Prairie du Sac: 1300 Prairie Street
UID:e.1184.30865
SEQUENCE:3
DTSTAMP:20260420T131738Z
URL:http://members.saukprairie.com/events/details/customer-appreciation-day-30865
END:VEVENT

END:VCALENDAR
