BEGIN:VCALENDAR
VERSION:2.0
PRODID:-//ChamberMaster//Event Calendar 2.0//EN
METHOD:PUBLISH
X-PUBLISHED-TTL:P3D
REFRESH-INTERVAL:P3D
CALSCALE:GREGORIAN
BEGIN:VEVENT
DTSTART:20180626T223000Z
DTEND:20180627T003000Z
X-MICROSOFT-CDO-ALLDAYEVENT:FALSE
SUMMARY:Cancelled due to potential Thurderstorms - Cycle Sauk Prairie and Swifkick
DESCRIPTION:Cancelled!\n\nJoin bicycle riders of all ages and abilities\, as we cycle the beautiful countryside surrounding Sauk Prairie. Upon our return\, enjoy the live music of Swifkick playing for June Tunes in Meyer's Oak Grove Park.\n\n\n\nWe'll have 2 groups of riders. Those that will go about 10-15 miles at a slower pace\, and those that will go 25+ miles at a more robust pace.\n\n\n\nIf you're staying for the music\, bring a lawn chair and money to purchase goods and foods from the various vendors at the Hwy 12 Market.
X-ALT-DESC;FMTTYPE=text/html:Cancelled!<br />\nJoin bicycle riders of all ages and abilities\, as we cycle the beautiful countryside surrounding Sauk Prairie. Upon our return\, enjoy the live music of&nbsp\;Swifkick playing for June Tunes in Meyer&#39\;s Oak Grove Park.<br />\n<br />\nWe&#39\;ll have 2 groups of riders. Those that will go about 10-15 miles at a slower pace\, and those that will go 25+ miles at a more robust pace.<br />\n<br />\nIf you&#39\;re staying for the music\, bring a lawn chair and money to purchase goods and foods from the various vendors at the Hwy 12 Market.
LOCATION:Eagle Plaza 811 Phillips Blvd Sauk City\, WI 53583
UID:e.1184.17786
SEQUENCE:3
DTSTAMP:20260424T100903Z
URL:http://members.saukprairie.com/events/details/cycle-sauk-prairie-and-swifkick-17786
END:VEVENT

END:VCALENDAR
