BEGIN:VCALENDAR
VERSION:2.0
PRODID:-//ChamberMaster//Event Calendar 2.0//EN
METHOD:PUBLISH
X-PUBLISHED-TTL:P3D
REFRESH-INTERVAL:P3D
CALSCALE:GREGORIAN
BEGIN:VEVENT
DTSTART:20190615T150000Z
DTEND:20190615T170000Z
X-MICROSOFT-CDO-ALLDAYEVENT:FALSE
SUMMARY:Dad & Me: Painting Birdhouses
DESCRIPTION:Saturday\, June 15\, 2019 | 10am-12pm | Ages 5+ | 590 Water St\, Prairie du Sac\, WI\n\nDaddy & Me: Painting Birdhouses\n\nJoin us for this fun kids' workshop and help celebrate Father's Day at River Arts! This class is meant for kids ages 5+ to take along with a parent or guardian. Each team of artists will work together to paint two wooden birdhouses. Artists can use their hands\, paintbrushes\, sponges\, or any other materials they can find to apply the paint.  All materials are provided\; please wear clothing you wouldn't mind getting paint on. Each team needs to be one child + one adult. For multiple children\, another parent or adult is required to come along.
X-ALT-DESC;FMTTYPE=text/html:<p><strong>Saturday\, June 15\, 2019 | 10am-12pm | Ages 5+ | 590 Water St\, Prairie du Sac\, WI</strong></p>\n\n<p>Daddy &amp\; Me: Painting Birdhouses</p>\n\n<p>Join us for this fun kids&rsquo\; workshop and help celebrate Father&rsquo\;s Day at River Arts! This class is meant for kids ages 5+ to take along with a parent or guardian. Each team of artists will work together to paint two wooden birdhouses. Artists can use their hands\, paintbrushes\, sponges\, or any other materials they can find to apply the paint.&nbsp\; All materials are provided\; please wear clothing you wouldn&rsquo\;t mind getting paint on. Each team needs to be one child + one adult.&nbsp\;<em><strong>For multiple children\, another parent or adult is required to come along.</strong></em></p>\n\n<div>&nbsp\;</div>\n
LOCATION:River Arts Studio 590 Water St Prairie du Sac
UID:e.1184.22355
SEQUENCE:3
DTSTAMP:20260423T154535Z
URL:http://members.saukprairie.com/events/details/dad-me-painting-birdhouses-22355
END:VEVENT

END:VCALENDAR
