BEGIN:VCALENDAR
VERSION:2.0
PRODID:-//ChamberMaster//Event Calendar 2.0//EN
METHOD:PUBLISH
X-PUBLISHED-TTL:P3D
REFRESH-INTERVAL:P3D
CALSCALE:GREGORIAN
BEGIN:VEVENT
DTSTART:20190621T160000Z
DTEND:20190621T190000Z
X-MICROSOFT-CDO-ALLDAYEVENT:FALSE
SUMMARY:Dairy Day 2019 at Bank of Prairie du Sac
DESCRIPTION:Join us for our annual Dairy Day event to celebrate National June Dairy Month\, in support of our farmers and community. We'll have:\n\n\n	Lunch\n	Dairy Treats\n	FFA Popcorn\n	Live Music\n	Face Painting\n	Kids Games\n	Petting Zoo\n\n\nWe hope you are able to celebrate National Dairy Month with us!\n\n\n\nMember FDIC
X-ALT-DESC;FMTTYPE=text/html:<div>\n<div>\n<div>Join us for our annual Dairy Day event to celebrate National June Dairy Month\, in support of our farmers and community. We&rsquo\;ll have:</div>\n\n<ul>\n	<li>Lunch</li>\n	<li>Dairy Treats</li>\n	<li>FFA Popcorn</li>\n	<li>Live Music</li>\n	<li>Face Painting</li>\n	<li>Kids Games</li>\n	<li>Petting Zoo</li>\n</ul>\n\n<div>We hope you are able to celebrate National Dairy Month with us!<br />\n<br />\nMember FDIC</div>\n</div>\n</div>\n
LOCATION:Bank of Prairie du Sac 555 Park Avenue Prairie du Sac\, WI 53578
UID:e.1184.22507
SEQUENCE:3
DTSTAMP:20260423T171959Z
URL:http://members.saukprairie.com/events/details/dairy-day-2019-at-bank-of-prairie-du-sac-22507
END:VEVENT

END:VCALENDAR
