BEGIN:VCALENDAR
VERSION:2.0
PRODID:-//ChamberMaster//Event Calendar 2.0//EN
METHOD:PUBLISH
X-PUBLISHED-TTL:P3D
REFRESH-INTERVAL:P3D
CALSCALE:GREGORIAN
BEGIN:VEVENT
DTSTART:20190722T180000Z
DTEND:20190722T190000Z
X-MICROSOFT-CDO-ALLDAYEVENT:FALSE
SUMMARY:Dairy Day
DESCRIPTION:Don't miss live cows\, princesses and ice cream at the Ruth Culver Community Library Monday\, July 22 at 1:00 p.m.  Children of all ages are welcome!  This event is sponsored by the Wisconsin Holstein Association with ice cream provided by Compeer Financial. Contact Beth at 643-8318 with questions.
X-ALT-DESC;FMTTYPE=text/html:Don&#39\;t miss live cows\, princesses and ice cream at the Ruth Culver Community Library Monday\, July 22 at 1:00 p.m.&nbsp\; Children of all ages are welcome!&nbsp\; This event is sponsored by the Wisconsin Holstein Association with ice cream provided by Compeer Financial. Contact Beth at 643-8318 with questions.
LOCATION:Ruth Culver Community Library 540 Water Street\, Prairie du Sac
UID:e.1184.22321
SEQUENCE:3
DTSTAMP:20260423T142919Z
URL:http://members.saukprairie.com/events/details/dairy-day-22321
END:VEVENT

END:VCALENDAR
