BEGIN:VCALENDAR
VERSION:2.0
PRODID:-//ChamberMaster//Event Calendar 2.0//EN
METHOD:PUBLISH
X-PUBLISHED-TTL:P3D
REFRESH-INTERVAL:P3D
CALSCALE:GREGORIAN
BEGIN:VEVENT
DTSTART:20191024T230000Z
DTEND:20191025T010000Z
X-MICROSOFT-CDO-ALLDAYEVENT:FALSE
SUMMARY:Dairylandia
DESCRIPTION:DAIRYLANDIA\n\n\n\nThursday | October 24\n\n6:00 to 6:30 pm mingle\n\n7:00 pm program starts\n\n\n\nCome hear acclaimed humorist Steve Hannah share tales from his\n\nnewest book Dairylandia. Features Sauk Prairie stories!\n\n\n\nThemed nibbles and seasonal cider. $5 donations and a good time encouraged.
X-ALT-DESC;FMTTYPE=text/html:DAIRYLANDIA<br />\n<br />\nThursday | October 24<br />\n6:00 to 6:30 pm mingle<br />\n7:00 pm program starts<br />\n<br />\nCome hear acclaimed humorist Steve Hannah share tales from his<br />\nnewest book Dairylandia. Features Sauk Prairie stories!<br />\n<br />\nThemed nibbles and seasonal cider. $5 donations and a good time encouraged.<br />\n<br />\n&nbsp\;
LOCATION:Tripp Heritage Museum 565 Water Street Prairie du Sac
UID:e.1184.23611
SEQUENCE:3
DTSTAMP:20260423T095114Z
URL:http://members.saukprairie.com/events/details/dairylandia-23611
END:VEVENT

END:VCALENDAR
