BEGIN:VCALENDAR
VERSION:2.0
PRODID:-//ChamberMaster//Event Calendar 2.0//EN
METHOD:PUBLISH
X-PUBLISHED-TTL:P3D
REFRESH-INTERVAL:P3D
CALSCALE:GREGORIAN
BEGIN:VEVENT
DTSTART:20160522T003000Z
DTEND:20160522T030000Z
X-MICROSOFT-CDO-ALLDAYEVENT:FALSE
SUMMARY:Dale Ryan Square Dance Party
DESCRIPTION:Whether you're a fast-moving square or just a wallflower looking to soak up the action on the sidelines\, you'll feel those hairs on your arm stand at attention when the smooth voice of Dale Ryan calls once more. Ryan\, a graduate with the PdS class of 1956\, delivers the retro fun with a dose of characters past for this one night stand in Sauk City's most charming hall. Grab your friends and head on down. Discover something new about this town.
X-ALT-DESC;FMTTYPE=text/html:Whether you&#39\;re a fast-moving square or just a wallflower looking to soak up the action on the sidelines\, you&#39\;ll feel those hairs on your arm stand at attention when the smooth voice of Dale Ryan calls once more. Ryan\, a graduate with the PdS class of 1956\, delivers the retro fun with a dose of characters past for this one night stand in Sauk City&#39\;s most charming hall. Grab your friends and head on down. Discover something new about this town.
LOCATION:Park Hall 307 Polk Street\, Sauk City\, WI 53583
UID:e.1184.6937
SEQUENCE:3
DTSTAMP:20260426T020133Z
URL:http://members.saukprairie.com/events/details/dale-ryan-square-dance-party-05-21-2016-6937
END:VEVENT

END:VCALENDAR
