BEGIN:VCALENDAR
VERSION:2.0
PRODID:-//ChamberMaster//Event Calendar 2.0//EN
METHOD:PUBLISH
X-PUBLISHED-TTL:P3D
REFRESH-INTERVAL:P3D
CALSCALE:GREGORIAN
BEGIN:VEVENT
DTSTART:20200316T010000Z
DTEND:20200316T040000Z
X-MICROSOFT-CDO-ALLDAYEVENT:FALSE
SUMMARY:Dan Lepien at Vintage Brewing
DESCRIPTION:Another local guy! Join us!\n\nSteve Earle\, Dwight Yoakam\, Clint Black\, Tyler Childers\, Jason Isbell\, Cody Jinks\, George Strait\, Merle Haggard\, David Allan Coe\, AC/DC\, Post Malone\, Ed Bassmaster\, Nothing Nowhere\, Lionheart\, Joyner Lucas\, Hopsin\, Trapped Under Ice
X-ALT-DESC;FMTTYPE=text/html:<div class="_63eu" style="box-sizing: border-box\; font-size: 14px\; max-height: 260px\; overflow: hidden\; padding: 12px\; overflow-wrap: break-word\; font-family: Helvetica\, Arial\, sans-serif\; color: rgb(29\, 33\, 41)\;">\n<div class="_63ew" data-testid="event-permalink-details" style="font-family: inherit\;"><span style="color: rgb(29\, 33\, 41)\; font-family: Helvetica\, Arial\, sans-serif\; font-size: 14px\; white-space: pre-wrap\;">Another local guy! Join us!</span><br style="color: rgb(29\, 33\, 41)\; font-family: Helvetica\, Arial\, sans-serif\; font-size: 14px\; white-space: pre-wrap\;" />\n<span style="color: rgb(29\, 33\, 41)\; font-family: Helvetica\, Arial\, sans-serif\; font-size: 14px\; white-space: pre-wrap\;">Steve Earle\, Dwight Yoakam\, Clint Black\, Tyler Childers\, Jason Isbell\, Cody Jinks\, George Strait\, Merle Haggard\, David Allan Coe\, AC/DC\, Post Malone\, Ed Bassmaster\, Nothing Nowhere\, Lionheart\, Joyner Lucas\, Hopsin\, Trapped Under Ice</span></div>\n\n<div>&nbsp\;</div>\n</div>\n
LOCATION:Vintage Brewing Co. 600 Water St. Sauk City
UID:e.1184.24088
SEQUENCE:3
DTSTAMP:20260423T025815Z
URL:http://members.saukprairie.com/events/details/dan-lepien-at-vintage-brewing-24088
END:VEVENT

END:VCALENDAR
