BEGIN:VCALENDAR
VERSION:2.0
PRODID:-//ChamberMaster//Event Calendar 2.0//EN
METHOD:PUBLISH
X-PUBLISHED-TTL:P3D
REFRESH-INTERVAL:P3D
CALSCALE:GREGORIAN
BEGIN:VEVENT
DTSTART:20220410T003000Z
DTEND:20220410T033000Z
X-MICROSOFT-CDO-ALLDAYEVENT:FALSE
SUMMARY:Danc’n the Night Away with DJ Jake Foster
DESCRIPTION:The Free Congregation of Sauk County and Indivisible Sauk Prairie will host "Danc'n the Night Away with DJ Jake Foster\," a dance to benefit Ukraine humanitarian efforts. All ages welcome! $10 suggested donation at the door. Beer\, soda\, water and snacks will be available for purchase. The profits will go to Ukraine humanitarian efforts.
X-ALT-DESC;FMTTYPE=text/html:The Free Congregation of Sauk County and Indivisible Sauk Prairie will host &quot\;Danc&rsquo\;n the Night Away with DJ Jake Foster\,&quot\; a dance to benefit Ukraine humanitarian efforts. All ages welcome! $10 suggested donation at the door. Beer\, soda\, water and snacks will be available for purchase. The profits will go to Ukraine humanitarian efforts.
LOCATION:Freethinkers' Hall (Park Hall)\, 307 Polk St.\, Sauk City\, WI
UID:e.1184.27406
SEQUENCE:3
DTSTAMP:20260421T134759Z
URL:http://members.saukprairie.com/events/details/danc-n-the-night-away-with-dj-jake-foster-27406
END:VEVENT

END:VCALENDAR
