BEGIN:VCALENDAR
VERSION:2.0
PRODID:-//ChamberMaster//Event Calendar 2.0//EN
METHOD:PUBLISH
X-PUBLISHED-TTL:P3D
REFRESH-INTERVAL:P3D
CALSCALE:GREGORIAN
BEGIN:VEVENT
DTSTART:20160718T180000Z
DTEND:20160718T190000Z
X-MICROSOFT-CDO-ALLDAYEVENT:FALSE
SUMMARY:Dancing the World Together
DESCRIPTION:Mark Helpsmeet teaches children folk dancing in "Dancing the World Together: Reading the World with Your Feet." This event is suited for children age 6 and up. Contact Beth at 643-8318 with questions.
X-ALT-DESC;FMTTYPE=text/html:Mark Helpsmeet teaches children folk dancing in &quot\;Dancing the World Together: Reading the World with Your Feet.&quot\; This event is suited for children age 6 and up. Contact Beth at 643-8318 with questions.
LOCATION:Ruth Culver Community Library 540 Water Street\, Prairie du Sac
UID:e.1184.8499
SEQUENCE:3
DTSTAMP:20260425T224449Z
URL:http://members.saukprairie.com/events/details/dancing-the-world-together-07-18-2016-8499
END:VEVENT

END:VCALENDAR
