BEGIN:VCALENDAR
VERSION:2.0
PRODID:-//ChamberMaster//Event Calendar 2.0//EN
METHOD:PUBLISH
X-PUBLISHED-TTL:P3D
REFRESH-INTERVAL:P3D
CALSCALE:GREGORIAN
BEGIN:VEVENT
DTSTART:20250208T000000Z
DTEND:20250208T020000Z
X-MICROSOFT-CDO-ALLDAYEVENT:FALSE
SUMMARY:Date Night Paint & Sip with Jyneal Radke
DESCRIPTION:Date Night Paint & Sip with Jyneal Radke\n\n590 Water St\, Prairie du Sac\, WI 53578\n\nFriday\, February 7\, 2025 | 6-8p | Deadline to register: February 5\, 2025\n\n$85 per couple\n\nAges 21+
X-ALT-DESC;FMTTYPE=text/html:<p><strong>Date Night Paint &amp\; Sip with Jyneal Radke</strong></p>\n\n<p><strong>590 Water St\, Prairie du Sac\, WI 53578</strong></p>\n\n<p><strong>Friday\, February 7\, 2025 | 6-8p</strong>&nbsp\;| Deadline to register: February 5\, 2025</p>\n\n<p><strong>$85 per couple</strong></p>\n\n<p><strong>Ages 21+</strong></p>\n
LOCATION:590 Water St\, Prairie du Sac\, WI 53578
UID:e.1184.34693
SEQUENCE:3
DTSTAMP:20260419T121848Z
URL:http://members.saukprairie.com/events/details/date-night-paint-sip-with-jyneal-radke-34693
END:VEVENT

END:VCALENDAR
