BEGIN:VCALENDAR
VERSION:2.0
PRODID:-//ChamberMaster//Event Calendar 2.0//EN
METHOD:PUBLISH
X-PUBLISHED-TTL:P3D
REFRESH-INTERVAL:P3D
CALSCALE:GREGORIAN
BEGIN:VEVENT
DTSTART:20190802T230000Z
DTEND:20190803T010000Z
X-MICROSOFT-CDO-ALLDAYEVENT:FALSE
SUMMARY:Date Night Paint & Sip - Wood Signs
DESCRIPTION:Grab your SO and join us for a unique night out at our DIY workshop - date night edition!\n\nOnly one person per couple needs to register. Cost includes sign(s) and all materials needed for the couple to complete their sign(s). Choose from a single sign to work on together or a pair of signs to complete side-by-side!\n\nYou will be able to pick paint and stain colors during the workshop. Wine and other beverages will be available for purchase.\n\nDate: August 2\, 2019\n\nTime: 6:00pm\n\nLocation: HBH Studio
X-ALT-DESC;FMTTYPE=text/html:<p>Grab your SO and join us for a unique night out at our DIY workshop - date night edition!</p>\n\n<p>Only one person per couple needs to register. Cost includes sign(s) and all materials needed for the couple to complete their sign(s). Choose from a single sign to work on together or a pair of signs to complete side-by-side!</p>\n\n<p>You will be able to pick paint and stain colors during the workshop. Wine and other beverages will be available for purchase.</p>\n\n<p><strong>Date:&nbsp\;</strong>August 2\, 2019</p>\n\n<p><strong>Time:&nbsp\;</strong>6:00pm</p>\n\n<p><strong>Location:&nbsp\;</strong>HBH Studio</p>\n
LOCATION:
UID:e.1184.22587
SEQUENCE:3
DTSTAMP:20260423T124920Z
URL:http://members.saukprairie.com/events/details/date-night-paint-sip-wood-signs-22587
END:VEVENT

END:VCALENDAR
