BEGIN:VCALENDAR
VERSION:2.0
PRODID:-//ChamberMaster//Event Calendar 2.0//EN
METHOD:PUBLISH
X-PUBLISHED-TTL:P3D
REFRESH-INTERVAL:P3D
CALSCALE:GREGORIAN
BEGIN:VEVENT
DTSTART:20200215T000000Z
DTEND:20200215T023000Z
X-MICROSOFT-CDO-ALLDAYEVENT:FALSE
SUMMARY:Date Night Wood Sign Workshop
DESCRIPTION:Reserve your spot at our Date Night Workshop on February 14\, 2020! Grab your SO (or your bestie) and we'll bring the wine for a unique date night at our studio! Each couple that registers will receive complimentary wine and chocolate covered strawberries.
X-ALT-DESC;FMTTYPE=text/html:<span style="font-size:14px"><span style="color:rgb(0\, 0\, 0)">Reserve your spot at our Date Night Workshop on February 14\, 2020! Grab your SO (or your bestie) and we&#39\;ll bring the wine for a unique date night at our studio! Each couple that registers will receive complimentary wine and chocolate covered strawberries.</span></span>
LOCATION:Home by Hayley 421 Water St #105 Prairie du Sac\, WI 53578
UID:e.1184.23989
SEQUENCE:3
DTSTAMP:20260423T041310Z
URL:http://members.saukprairie.com/events/details/date-night-wood-sign-workshop-23989
END:VEVENT

END:VCALENDAR
