BEGIN:VCALENDAR
VERSION:2.0
PRODID:-//ChamberMaster//Event Calendar 2.0//EN
METHOD:PUBLISH
X-PUBLISHED-TTL:P3D
REFRESH-INTERVAL:P3D
CALSCALE:GREGORIAN
BEGIN:VEVENT
DTSTART:20190715T180000Z
DTEND:20190715T190000Z
X-MICROSOFT-CDO-ALLDAYEVENT:FALSE
SUMMARY:David Landau: Music & Laughter for Kids
DESCRIPTION:Join David Landau at the Ruth Culver Community Library Monday\, July 15 at 1:00 p.m. for an entertaining and educational musical program that promises to be lively and upbeat in nature while encouraging audience participation. Children of all ages are welcome. Contact Beth at 643-8318 with questions.
X-ALT-DESC;FMTTYPE=text/html:Join David Landau at the Ruth Culver Community Library Monday\, July 15 at 1:00 p.m. for an entertaining and educational musical program that promises to be lively and upbeat in nature while encouraging audience participation. Children of all ages are welcome. Contact Beth at 643-8318 with questions.
LOCATION:Ruth Culver Community Library 540 Water Street\, Prairie du Sac
UID:e.1184.22320
SEQUENCE:3
DTSTAMP:20260423T143607Z
URL:http://members.saukprairie.com/events/details/david-landau-music-laughter-for-kids-22320
END:VEVENT

END:VCALENDAR
