BEGIN:VCALENDAR
VERSION:2.0
PRODID:-//ChamberMaster//Event Calendar 2.0//EN
METHOD:PUBLISH
X-PUBLISHED-TTL:P3D
REFRESH-INTERVAL:P3D
CALSCALE:GREGORIAN
BEGIN:VEVENT
DTSTART:20241221T233000Z
DTEND:20241222T013000Z
X-MICROSOFT-CDO-ALLDAYEVENT:FALSE
SUMMARY:December Torchlit Hike
DESCRIPTION:Please join us for the first of our seasonal Torchlit Hikes! We will meet at 5:30pm at the Rock Elm Shelter at the North Shore entrance of the park. Campfire Kevin will be in attendance welcoming guests with his well known music for the occasion. We hope to see you there!
X-ALT-DESC;FMTTYPE=text/html:Please join us for the first of our seasonal Torchlit Hikes! We will meet at 5:30pm at the Rock Elm Shelter at the North Shore entrance of the park. Campfire Kevin will be in attendance welcoming guests with his well known music for the occasion. We hope to see you there!
LOCATION:Devil's Lake State Park S5975 Park Road Baraboo\, WI\, 53913
UID:e.1184.33444
SEQUENCE:3
DTSTAMP:20260419T114929Z
URL:http://members.saukprairie.com/events/details/december-torchlit-hike-33444
END:VEVENT

END:VCALENDAR
