BEGIN:VCALENDAR
VERSION:2.0
PRODID:-//ChamberMaster//Event Calendar 2.0//EN
METHOD:PUBLISH
X-PUBLISHED-TTL:P3D
REFRESH-INTERVAL:P3D
CALSCALE:GREGORIAN
BEGIN:VEVENT
DTSTART:20161118T010000Z
DTEND:20161118T030000Z
X-MICROSOFT-CDO-ALLDAYEVENT:FALSE
SUMMARY:Derek Pritzl and the Gamble at the Woodshed Ale House
DESCRIPTION:"His obsession of music and all things lyrical began with the meeting of Todd Snider's Near Truths and Hotel Rooms. The influence of the Americana movement and his favorite songwriters pushed him to put his own truths on paper and eventually start playing his stories in local dive bars and coffee houses. Since then\, Derek has reached a larger audience in venues across Wisconsin and the Midwest. Derek's music has been described by The Onion as 'taking another kind of thoughtful\, rootsy detour\, at times digging up raggedy old soul sounds\, and other times leaning into the quiet barren territory where Gillian Welch fans dwell.' Derek's music is captivating in the sense that all walks of life have found solace in his sound."
X-ALT-DESC;FMTTYPE=text/html:<span style="color: rgb(75\, 79\, 86)\; font-family: helvetica\, arial\, sans-serif\; font-size: 14px\;">&ldquo\;His obsession of music and all things lyrical began with the meeting of Todd Snider&rsquo\;s Near Truths and Hotel Rooms. The influence of the Americana movement and his favorite songwriters pushed him to put his own truths on paper and eventually start playing his stories in local dive bars and coffee houses. Since then\, Derek has reached a larger audience in venues across Wisconsin and the Midwest. Derek&rsquo\;s music has been described by The Onion as &lsquo\;taking another kind of thoughtful\, rootsy detour\, at times digging up raggedy old soul sounds\, and other times leaning into the quiet barren territory where Gillian Welch fans dwell.&rsquo\; Derek&rsquo\;s music is captivating in the sense that all walks of life have found solace in his sound.&rdquo\;</span>
LOCATION:Woodshed Ale House 101 Jackson Street Sauk City\, WI 53583
UID:e.1184.9414
SEQUENCE:3
DTSTAMP:20260425T161413Z
URL:http://members.saukprairie.com/events/details/derek-pritzl-and-the-gamble-at-the-woodshed-ale-house-9414
END:VEVENT

END:VCALENDAR
