BEGIN:VCALENDAR
VERSION:2.0
PRODID:-//ChamberMaster//Event Calendar 2.0//EN
METHOD:PUBLISH
X-PUBLISHED-TTL:P3D
REFRESH-INTERVAL:P3D
CALSCALE:GREGORIAN
BEGIN:VEVENT
DTSTART:20180622T010000Z
DTEND:20180622T030000Z
X-MICROSOFT-CDO-ALLDAYEVENT:FALSE
SUMMARY:Derek Rammarace at Vintage Brewing Co. Sauk Prairie
DESCRIPTION:Derek Ramnarace leads the "Old Soul Society" and performs Americana\, folk\, rock\, soul\, and blues. Derek strikes out on his own and the singer/songwriter's emotionally raw\, honest and heartfelt lyrics are wowing audiences everywhere. He tours in both the Midwest and Nationally.
X-ALT-DESC;FMTTYPE=text/html:<span style="color: rgb(29\, 33\, 41)\; font-family: Helvetica\, Arial\, sans-serif\; font-size: 14px\;">Derek Ramnarace leads the &quot\;Old Soul Society&quot\; and performs Americana\, folk\, rock\, soul\, and blues. Derek strikes out on his own and the singer/songwriter&#39\;s emotionally raw\, honest and heartfelt lyrics are wowing audiences everywhere. He tours in both the Midwest and Nationally.</span>
LOCATION:Vintage Brewing Co. Sauk Prairie 600 Water Street Sauk City\, WI 53583
UID:e.1184.18374
SEQUENCE:3
DTSTAMP:20260424T101013Z
URL:http://members.saukprairie.com/events/details/derek-rammarace-at-vintage-brewing-co-sauk-prairie-18374
END:VEVENT

END:VCALENDAR
