BEGIN:VCALENDAR
VERSION:2.0
PRODID:-//ChamberMaster//Event Calendar 2.0//EN
METHOD:PUBLISH
X-PUBLISHED-TTL:P3D
REFRESH-INTERVAL:P3D
CALSCALE:GREGORIAN
BEGIN:VEVENT
DTSTART:20190919T233000Z
DTEND:20190920T023000Z
X-MICROSOFT-CDO-ALLDAYEVENT:FALSE
SUMMARY:"Derek Ramnarace" at The Old Schoolhouse! Live Music on the Deck every Thursday! No Cover charge!
DESCRIPTION:Come check out Derek Ramnarace! Plays solo as well as with "Old Soul Society"\, a WI based group rooted in Americana with branches in Folk\, Rock\, Soul\, Blues and more!\n\n\n\nDrink Specials\, great tap beer selection\, homemade deep dish pizza served until 10PM!
X-ALT-DESC;FMTTYPE=text/html:Come check out Derek Ramnarace! Plays solo as well as with &quot\;Old Soul Society&quot\;\, a WI based group rooted in Americana with branches in Folk\, Rock\, Soul\, Blues and more!<br />\n<br />\nDrink Specials\, great tap beer selection\, homemade deep dish pizza served until 10PM!
LOCATION:The Old Schoolhouse E13887 Cty Rd DL Merrimac\, WI 53561
UID:e.1184.23133
SEQUENCE:3
DTSTAMP:20260423T114018Z
URL:http://members.saukprairie.com/events/details/derek-ramnarace-at-the-old-schoolhouse-live-music-on-the-deck-every-thursday-no-cover-charge-23133
END:VEVENT

END:VCALENDAR
