BEGIN:VCALENDAR
VERSION:2.0
PRODID:-//ChamberMaster//Event Calendar 2.0//EN
METHOD:PUBLISH
X-PUBLISHED-TTL:P3D
REFRESH-INTERVAL:P3D
CALSCALE:GREGORIAN
BEGIN:VEVENT
DTSTART:20171020T000000Z
DTEND:20171020T020000Z
X-MICROSOFT-CDO-ALLDAYEVENT:FALSE
SUMMARY:Derek Ramnarace at the Woodshed Ale House
DESCRIPTION:
X-ALT-DESC;FMTTYPE=text/html:
LOCATION:Woodshed Ale House 101 Jackson Street
UID:e.1184.11816
SEQUENCE:3
DTSTAMP:20260424T223013Z
URL:http://members.saukprairie.com/events/details/derek-ramnarace-at-the-woodshed-ale-house-11816
END:VEVENT

END:VCALENDAR
