BEGIN:VCALENDAR
VERSION:2.0
PRODID:-//ChamberMaster//Event Calendar 2.0//EN
METHOD:PUBLISH
X-PUBLISHED-TTL:P3D
REFRESH-INTERVAL:P3D
CALSCALE:GREGORIAN
BEGIN:VEVENT
DTSTART:20181007T170000Z
DTEND:20181007T210000Z
X-MICROSOFT-CDO-ALLDAYEVENT:FALSE
SUMMARY:Derleth Day 2018
DESCRIPTION:Jerry Apps to headline Society event October 7th Jerry Apps\, Wisconsin's consummate historian and storyteller\, will be the guest speaker at the annual Derleth Day event. Also presenting will be Rebekah Hewitt\, winner of UW-Madison's August Derleth Creative Writing Award 2018!\n\n\n\nSunday\, October 7th\n\nDoors open at Noon\n\nProgram from 1:00 to 4:00 p.m.\n\nAugust Derleth Center 300 Water St.\, Sauk City\n\n\n\nAdmission is free\, refreshments will be served and Jerry will be happy to sell and autograph books after the presentation. Also\, some very special books from the August Derleth Society's collection will be offered for sale. First come\, first serve.\n\n\n\nQuestions: call Mitch at 608-206-0436
X-ALT-DESC;FMTTYPE=text/html:<p style="margin: 6px 0px\; color: rgb(29\, 33\, 41)\; font-family: helvetica\, arial\, sans-serif\; font-size: 14px\;">Jerry Apps to headline Society event October 7th Jerry Apps\, Wisconsin&rsquo\;s consummate historian and storyteller\, will be the guest speaker at the annual Derleth Day event. Also presenting will be Rebekah Hewitt\, winner of UW-Madison&rsquo\;s August Derleth Creative Writing Award 2018!<br />\n<br />\nSunday\, October 7th<br />\nDoors open at Noon<br />\nProgram from 1:00 to 4:00 p.m.<br />\nAugust Derleth Center 300 Water St.\, Sauk City<br />\n<br />\nAdmission is free\, refreshments will be served and Jerry will be happy to sell and autograph books after the presentation. Also\, some very special books from the August Derleth Society&rsquo\;s collection will be offered for sale. First come\, first serve.<br />\n<br />\nQuestions: call Mitch at 608-206-0436</p>\n
LOCATION:300 Water Street\, Sauk City
UID:e.1184.20977
SEQUENCE:3
DTSTAMP:20260424T033626Z
URL:http://members.saukprairie.com/events/details/derleth-day-2018-20977
END:VEVENT

END:VCALENDAR
