BEGIN:VCALENDAR
VERSION:2.0
PRODID:-//ChamberMaster//Event Calendar 2.0//EN
METHOD:PUBLISH
X-PUBLISHED-TTL:P3D
REFRESH-INTERVAL:P3D
CALSCALE:GREGORIAN
BEGIN:VEVENT
DTSTART:20161117T003000Z
DTEND:20161117T020000Z
X-MICROSOFT-CDO-ALLDAYEVENT:FALSE
SUMMARY:Design Party
DESCRIPTION:Enjoy the night out creating something beautiful for your home\, or maybe to give as a gift. For more details\, take a look at the flyer. Call a friend\, decide on the options\, and sign up.\n\n\n\nClick here for questions or sign up
X-ALT-DESC;FMTTYPE=text/html:<span style="color: rgb(75\, 79\, 86)\; font-family: helvetica\, arial\, sans-serif\; font-size: 14px\;">Enjoy the night out creating something beautiful for your home\, or maybe to give as a gift. For more details\, take a look at the flyer. Call a friend\, decide on the options\, and sign up.<br />\n<br />\n<a href="https://business.facebook.com/events/1796743713901625/?active_tab=discussion">Click here for questions or sign up&nbsp\;</a></span>
LOCATION:The Gym Bar and Grill 833 Water Street Sauk City\, WI 53583
UID:e.1184.9425
SEQUENCE:3
DTSTAMP:20260425T160752Z
URL:http://members.saukprairie.com/events/details/design-party-9425
END:VEVENT

END:VCALENDAR
