BEGIN:VCALENDAR
VERSION:2.0
PRODID:-//ChamberMaster//Event Calendar 2.0//EN
METHOD:PUBLISH
X-PUBLISHED-TTL:P3D
REFRESH-INTERVAL:P3D
CALSCALE:GREGORIAN
BEGIN:VEVENT
DTSTART;VALUE=DATE:20220422
DTEND;VALUE=DATE:20220423
TRANSP:TRANSPARENT
X-MICROSOFT-CDO-ALLDAYEVENT:TRUE
SUMMARY:Designer Bag Bingo
DESCRIPTION:Sauk Prairie FFA Alumni & Supporters Designer Bag Bingo\n\nEach cover fee includes 15 rounds of bingo and dauber. Gates Open at 5:00pm - Bingo Starts at 6:30pm.\n\n\n\nWollershim Wine | Refreshments | Snacks\n\n\n\nAll proceeds benefit the future Jeff Hicken Horticultural Learning Center. Click here to learn more.\n\n\n\nTo purchase tickets\, please visit: www.saukprairieffa.com/donate
X-ALT-DESC;FMTTYPE=text/html:Sauk Prairie FFA Alumni &amp\; Supporters Designer Bag Bingo<br />\nEach cover fee includes 15 rounds of bingo and dauber. Gates Open at 5:00pm - Bingo Starts at 6:30pm.<br />\n<br />\nWollershim Wine | Refreshments | Snacks<br />\n<br />\nAll proceeds benefit the future Jeff Hicken Horticultural Learning Center. <a href="https://chambermaster.blob.core.windows.net/userfiles/UserFiles/chambers/1184/File/JHHLCFlyer1.23.pdf">Click here to learn more.</a><br />\n<br />\nTo purchase tickets\, please visit: <a href="http://www.saukprairieffa.com/donate">www.saukprairieffa.com/donate</a>
LOCATION:The venue will include a pavilion/tent/ please dress accordingly 998 15th Street Prairie du Sac
UID:e.1184.27125
SEQUENCE:3
DTSTAMP:20260421T133829Z
URL:http://members.saukprairie.com/events/details/designer-bag-bingo-27125
END:VEVENT

END:VCALENDAR
