BEGIN:VCALENDAR
VERSION:2.0
PRODID:-//ChamberMaster//Event Calendar 2.0//EN
METHOD:PUBLISH
X-PUBLISHED-TTL:P3D
REFRESH-INTERVAL:P3D
CALSCALE:GREGORIAN
BEGIN:VEVENT
DTSTART:20200227T230000Z
DTEND:20200228T000000Z
X-MICROSOFT-CDO-ALLDAYEVENT:FALSE
SUMMARY:Diabetes Prevention Program Informational Session
DESCRIPTION:Join us at Wellspring for a free informational session to learn about Sauk Prairie Healthcare's Diabetes Prevention Lifestyle Change Program. This program is a series of classes from March through June that teach you to control your health from head to toe\, including nutrition\, exercise and stress management. This helps you start and keep new\, healthier habits\, and prevent common future health risks like type 2 diabetes. Learn more about the program at www.saukprairiehealthcare.org/preventT2.
X-ALT-DESC;FMTTYPE=text/html:Join us at Wellspring for a free informational session to learn about Sauk Prairie Healthcare&rsquo\;s Diabetes Prevention Lifestyle Change Program. This program is a series of classes from March through June that teach you to control your health from head to toe\, including nutrition\, exercise and stress management. This helps you start and keep new\, healthier habits\, and prevent common future health risks like type 2 diabetes. Learn more about the program at www.saukprairiehealthcare.org/preventT2.
LOCATION:Wellspring 90 Oak Street Prairie du Sac\, WI 53578
UID:e.1184.23886
SEQUENCE:3
DTSTAMP:20260423T053532Z
URL:http://members.saukprairie.com/events/details/diabetes-prevention-program-informational-session-23886
END:VEVENT

END:VCALENDAR
