BEGIN:VCALENDAR
VERSION:2.0
PRODID:-//ChamberMaster//Event Calendar 2.0//EN
METHOD:PUBLISH
X-PUBLISHED-TTL:P3D
REFRESH-INTERVAL:P3D
CALSCALE:GREGORIAN
BEGIN:VEVENT
DTSTART:20221012T220000Z
DTEND:20221012T230000Z
X-MICROSOFT-CDO-ALLDAYEVENT:FALSE
SUMMARY:Diabetes T2 Prevention
DESCRIPTION:Sauk Prairie Healthcare's Diabetes Prevention and Lifestyle Change session is a four-month course for people at-risk of developing Type 2 Diabetes that helps participants move away from dangerous blood sugar levels. Through the support of our diabetes educator\, registered dieticians and wellness experts\, participants will be guided on food and exercise choices that will increase overall health and establish positive eating habits. Classes will be held from 5-6 p.m. Wednesdays\, beginning September 14 at Sauk Prairie Healthcare's main campus\, and a virtual option will also be available. The cost for the program is $130 and includes a Wellspring membership for the duration of the program. Sauk Prairie Healthcare employees receive a 50 percent discount.
X-ALT-DESC;FMTTYPE=text/html:Sauk Prairie Healthcare&#39\;s Diabetes Prevention and Lifestyle Change session is a four-month course for people at-risk of developing Type 2 Diabetes that helps participants move away from dangerous blood sugar levels. Through the support of our diabetes educator\, registered dieticians and wellness experts\, participants will be guided on food and exercise choices that will increase overall health and establish positive eating habits. Classes will be held from 5-6 p.m. Wednesdays\, beginning September 14 at Sauk Prairie Healthcare&#39\;s main campus\, and a virtual option will also be available. The cost for the program is $130 and includes a Wellspring membership for the duration of the program. Sauk Prairie Healthcare employees receive a 50 percent discount.
LOCATION:Sauk Prairie Healthcare Main Campus
UID:e.1184.28684
SEQUENCE:3
DTSTAMP:20260421T033617Z
URL:http://members.saukprairie.com/events/details/diabetes-t2-prevention-10-12-2022-28684
END:VEVENT

END:VCALENDAR
