BEGIN:VCALENDAR
VERSION:2.0
PRODID:-//ChamberMaster//Event Calendar 2.0//EN
METHOD:PUBLISH
X-PUBLISHED-TTL:P3D
REFRESH-INTERVAL:P3D
CALSCALE:GREGORIAN
BEGIN:VEVENT
DTSTART:20220609T230000Z
DTEND:20220610T010000Z
X-MICROSOFT-CDO-ALLDAYEVENT:FALSE
SUMMARY:Dialogue Lab: America - Building Empathy Through Dialogue
DESCRIPTION:Dialogue Lab - hosted by 6:8\n\nThursday\, June 9th at 6pm\n\n\n\nAs relational beings\, we learn best in community\; that is\, in dialogue with one another. Yet\, at different points in our lives\, we all find ourselves having to engage with people over divisive\, and even fear-inducing topics. Whether it is with people we know or complete strangers\, holding a dialogue with people who think differently than us can be challenging. But it is also an opportunity to share our most authentic selves with another person.\n\n \n\nMuch of the conversation in our families\, community\, and across the United States is polarized.  Come see the documentary that brought together 12 individuals from varying viewpoints and how they navigated conversations around topics they felt strongly about.\n\n \n\nAfter the documentary\, we'll have our own discussion about what this means for our lives.\n\n \n\nLink to documentary Trailer: https://youtu.be/qVwqTdF7OIA
X-ALT-DESC;FMTTYPE=text/html:<strong>Dialogue Lab - hosted by 6:8</strong><br />\n<strong>Thursday\, June 9th at 6pm</strong><br />\n<br />\nAs relational beings\, we learn best in community\; that is\, in dialogue with one another. Yet\, at different points in our lives\, we all find ourselves having to engage with people over divisive\, and even fear-inducing topics. Whether it is with people we know or complete strangers\, holding a dialogue with people who think differently than us can be challenging. But it is also an opportunity to share our most authentic selves with another person.<br />\n&nbsp\;<br />\nMuch of the conversation in our families\, community\, and across the United States is polarized.&nbsp\; Come see the documentary that brought together 12 individuals from varying viewpoints and how they navigated conversations around topics they felt strongly about.<br />\n&nbsp\;<br />\nAfter the documentary\, we&#39\;ll have our own discussion about what this means for our lives.<br />\n&nbsp\;<br />\nLink to documentary Trailer: <a href="https://youtu.be/qVwqTdF7OIA">https://youtu.be/qVwqTdF7OIA</a><br />\n&nbsp\;
LOCATION:821 Industry Rd Sauk City\, WI
UID:e.1184.27932
SEQUENCE:3
DTSTAMP:20260421T115934Z
URL:http://members.saukprairie.com/events/details/dialogue-lab-america-building-empathy-through-dialogue-06-09-2022-27932
END:VEVENT

END:VCALENDAR
