BEGIN:VCALENDAR
VERSION:2.0
PRODID:-//ChamberMaster//Event Calendar 2.0//EN
METHOD:PUBLISH
X-PUBLISHED-TTL:P3D
REFRESH-INTERVAL:P3D
CALSCALE:GREGORIAN
BEGIN:VEVENT
DTSTART:20220518T230000Z
DTEND:20220519T010000Z
X-MICROSOFT-CDO-ALLDAYEVENT:FALSE
SUMMARY:Dialogue Lab: America - Building Empathy Through Dialogue
DESCRIPTION:Together we'll view the hour-long documentary\, "Dialogue Lab: America." After watching the documentary\, we'll have time for group discussion.\n\n \n\nFrom Ideos Institute (Creator of the Dialogue Lab) :\n\nIf stories are the vehicle for empathic intelligence\, then dialogue is its engine. Generative dialogue ignites this engine and activates the innate courage and confidence we each have to respond in the face of uncertainty and helps us build bridges across lines of difference.\n\nThe Dialogue Lab is our work in the art and practice of dialogic leadership\, and dialogue-based systems and social change through a process of reflection\, exploration and regeneration. And it all happens through a generative process of communication that breaks down barriers and isolated thinking. Only then\, as a current or future leader\, can you start to develop shared meaning and understanding with those you are called to influence\, laying the groundwork for authentic relationships\, and the development of redemptive solutions. This is the essence of generative dialogue.\n\nAs relational beings\, we learn best in community\; that is\, in dialogue with one another. Yet\, at different points in our lives\, we all find ourselves having to engage with people over divisive\, and even fear-inducing topics. Whether it is with people we know or complete strangers\, holding a dialogue with people who think differently than us can be challenging. But it is also an opportunity to share our most authentic selves with another person
X-ALT-DESC;FMTTYPE=text/html:<div>Together we&#39\;ll view the hour-long documentary\, &quot\;Dialogue Lab: America.&quot\; After watching the documentary\, we&#39\;ll have time for group discussion.<br />\n&nbsp\;</div>\n\n<div>From Ideos Institute (Creator of the Dialogue Lab) :<br />\nIf stories are the vehicle for empathic intelligence\, then dialogue is its engine. Generative dialogue ignites this engine and activates the innate courage and confidence we each have to respond in the face of uncertainty and helps us build bridges across lines of difference.</div>\n\n<div>The Dialogue Lab is our work in the art and practice of dialogic leadership\, and dialogue-based systems and social change through a process of reflection\, exploration and regeneration. And it all happens through a generative process of communication that breaks down barriers and isolated thinking. Only then\, as a current or future leader\, can you start to develop shared meaning and understanding with those you are called to influence\, laying the groundwork for authentic relationships\, and the development of redemptive solutions. This is the essence of generative dialogue.</div>\n\n<div>As relational beings\, we learn best in community\; that is\, in dialogue with one another. Yet\, at different points in our lives\, we all find ourselves having to engage with people over divisive\, and even fear-inducing topics. Whether it is with people we know or complete strangers\, holding a dialogue with people who think differently than us can be challenging. But it is also an opportunity to share our most authentic selves with another person</div>\n
LOCATION:821 Industry Rd Sauk City\, WI
UID:e.1184.27672
SEQUENCE:3
DTSTAMP:20260421T115722Z
URL:http://members.saukprairie.com/events/details/dialogue-lab-america-building-empathy-through-dialogue-27672
END:VEVENT

END:VCALENDAR
