BEGIN:VCALENDAR
VERSION:2.0
PRODID:-//ChamberMaster//Event Calendar 2.0//EN
METHOD:PUBLISH
X-PUBLISHED-TTL:P3D
REFRESH-INTERVAL:P3D
CALSCALE:GREGORIAN
BEGIN:VEVENT
DTSTART:20190731T233000Z
DTEND:20190801T002500Z
X-MICROSOFT-CDO-ALLDAYEVENT:FALSE
SUMMARY:Digital Sketching for Adults
DESCRIPTION:Are you curious about digital sketching? Come experiment at the Ruth Culver Community Library Wednesday\, July 31 at 6:30 p.m.  We will have iPads and Apple pencils available for use.  This event is open to ages 18 and older. Registration is required. Contact Meagan at 643-8318 with questions
X-ALT-DESC;FMTTYPE=text/html:Are you curious about digital sketching? Come experiment at the Ruth Culver Community Library Wednesday\, July 31 at 6:30 p.m.&nbsp\; We will have iPads and Apple pencils available for use.&nbsp\; This event is open to ages 18 and older. <strong>Registration is required</strong>. Contact Meagan at 643-8318 with questions
LOCATION:Ruth Culver Community Library 540 Water Street\, Prairie du Sac
UID:e.1184.22331
SEQUENCE:3
DTSTAMP:20260423T142952Z
URL:http://members.saukprairie.com/events/details/digital-sketching-for-adults-22331
END:VEVENT

END:VCALENDAR
