BEGIN:VCALENDAR
VERSION:2.0
PRODID:-//ChamberMaster//Event Calendar 2.0//EN
METHOD:PUBLISH
X-PUBLISHED-TTL:P3D
REFRESH-INTERVAL:P3D
CALSCALE:GREGORIAN
BEGIN:VEVENT
DTSTART:20240917T210000Z
DTEND:20240918T010000Z
X-MICROSOFT-CDO-ALLDAYEVENT:FALSE
SUMMARY:Dine and Donate - Culver's of Sauk City
DESCRIPTION:Come on out to the Sauk City Culver's (716 Phillips Blvd in Sauk City) on September 17 and support Hope House!\n\n10% of total sales will be donated to Hope House!
X-ALT-DESC;FMTTYPE=text/html:Come on out to the Sauk City Culver&rsquo\;s (716 Phillips Blvd in Sauk City) on September 17 and support Hope House!<br />\n10% of total sales will be donated to Hope House!
LOCATION:Culver's of Sauk City
UID:e.1184.32987
SEQUENCE:3
DTSTAMP:20260419T151505Z
URL:http://members.saukprairie.com/events/details/dine-and-donate-culver-s-of-sauk-city-32987
END:VEVENT

END:VCALENDAR
