BEGIN:VCALENDAR
VERSION:2.0
PRODID:-//ChamberMaster//Event Calendar 2.0//EN
METHOD:PUBLISH
X-PUBLISHED-TTL:P3D
REFRESH-INTERVAL:P3D
CALSCALE:GREGORIAN
BEGIN:VEVENT
DTSTART:20200321T220000Z
DTEND:20200322T013000Z
X-MICROSOFT-CDO-ALLDAYEVENT:FALSE
SUMMARY:CANCELLED \; Dinner and Drink Specials with Live Music
DESCRIPTION:John Duggleby will be performing live from 5:30 pm - 8:30 pm while you enjoy our Chef Christopher's Dinner Specials:\n\n$20  1 Lb Snow Crab - Steamed and Served with Drawn Butter and Your Choice of Side\n\n$18  Rainbow Trout - Pan Fried served with Wild Rice Pilaf\, Saut ed Wild Mushroom\n\nand Leeks with Asparagus and Lemon Pan Sauce\n\n(dinner specials include choice of soup or salad bar)\n\n$5.25/glass  Josh Pinot Noir  \n\n$4.50/glass  Wollersheim Prairie Fume \n\n$3/pint         SPG Lager \n\nhttp://sauk-prairiegrill.com
X-ALT-DESC;FMTTYPE=text/html:<p><span style="font-size:16px"><strong>John Duggleby will be performing live from 5:30 pm - 8:30 pm while you enjoy our Chef Christopher&#39\;s Dinner Specials:<br />\n$20&nbsp\; 1 Lb Snow Crab - Steamed and Served with Drawn Butter and Your Choice of Side<br />\n$18&nbsp\; Rainbow Trout - Pan Fried served with Wild Rice Pilaf\, Saut&eacute\;ed Wild Mushroom<br />\nand&nbsp\;Leeks with Asparagus and Lemon Pan Sauce<br />\n(dinner specials include choice of soup or salad bar)<br />\n$5.25/glass&nbsp\; Josh Pinot Noir&nbsp\;&nbsp\;</strong></span><br />\n<strong><span style="font-size:16px">$4.50/glass&nbsp\; Wollersheim Prairie Fume&nbsp\;</span><br />\n<span style="font-size:16px">$3/pint&nbsp\; &nbsp\; &nbsp\; &nbsp\; &nbsp\;SPG Lager&nbsp\;</span></strong></p>\n\n<p><a href="http://sauk-prairiegrill.com">http://sauk-prairiegrill.com</a></p>\n
LOCATION:Sauk-Prairie Grill 200 Phillips Boulevard Sauk City\, WI 53583 608.643.2004
UID:e.1184.24149
SEQUENCE:3
DTSTAMP:20260423T041258Z
URL:http://members.saukprairie.com/events/details/dinner-and-drink-specials-with-live-music-24149
END:VEVENT

END:VCALENDAR
