BEGIN:VCALENDAR
VERSION:2.0
PRODID:-//ChamberMaster//Event Calendar 2.0//EN
METHOD:PUBLISH
X-PUBLISHED-TTL:P3D
REFRESH-INTERVAL:P3D
CALSCALE:GREGORIAN
BEGIN:VEVENT
DTSTART:20190507T233000Z
DTEND:20190508T003000Z
X-MICROSOFT-CDO-ALLDAYEVENT:FALSE
SUMMARY:Discover the Ice Age Trail
DESCRIPTION:Discover the Ice Age Trail with Amy Lord\, the Trail's Outreach and Education Manager. Amy will explore the Trail's history and landscape\, as well as discuss how to get involved with exploring\, hiking\, and more.
X-ALT-DESC;FMTTYPE=text/html:Discover the Ice Age Trail with Amy Lord\, the Trail&#39\;s Outreach and Education Manager. Amy will explore the Trail&#39\;s history and landscape\, as well as discuss how to get involved with exploring\, hiking\, and more.
LOCATION:515 Water Street Sauk City\, WI 53583
UID:e.1184.22214
SEQUENCE:3
DTSTAMP:20260423T171512Z
URL:http://members.saukprairie.com/events/details/discover-the-ice-age-trail-22214
END:VEVENT

END:VCALENDAR
