BEGIN:VCALENDAR
VERSION:2.0
PRODID:-//ChamberMaster//Event Calendar 2.0//EN
METHOD:PUBLISH
X-PUBLISHED-TTL:P3D
REFRESH-INTERVAL:P3D
CALSCALE:GREGORIAN
BEGIN:VEVENT
DTSTART:20230424T230000Z
DTEND:20230425T030000Z
X-MICROSOFT-CDO-ALLDAYEVENT:FALSE
SUMMARY:Disney themed drag show bingo!!
DESCRIPTION:Drag Bingo featuring Dita Von\, Mercedes Benzova\, Loretta Love Lee\, and Janelza -- and it's Disney-themed! Hosted at the AL. Ringling Brewing Co. Doors open at 5pm\, and Bingo starts at 6pm. MUST BE 18+ TO ATTEND.\n\n\n\nWe have a full bar serving our craft beers brewed on site\, wine\, seltzers\, cocktails\, and non-alcoholic beverages\; and our "Pie Car" kitchen serving up shareable appetizers and meal entrees. Purchase tickets as soon as possible for the advanced purchase discount!
X-ALT-DESC;FMTTYPE=text/html:<div>Drag Bingo featuring Dita Von\, Mercedes Benzova\, Loretta Love Lee\, and Janelza -- and it&#39\;s Disney-themed! Hosted at the AL. Ringling Brewing Co. Doors open at 5pm\, and Bingo starts at 6pm. MUST BE 18+ TO ATTEND.</div>\n\n<div>\n<div>\n<p>We have a full bar serving our craft beers brewed on site\, wine\, seltzers\, cocktails\, and non-alcoholic beverages\; and our &quot\;Pie Car&quot\; kitchen serving up shareable appetizers and meal entrees. Purchase tickets as soon as possible for the advanced purchase discount!</p>\n</div>\n</div>\n
LOCATION:623 Broadway St. Baraboo\, WI 53913
UID:e.1184.30219
SEQUENCE:3
DTSTAMP:20260420T144743Z
URL:http://members.saukprairie.com/events/details/disney-themed-drag-show-bingo-30219
END:VEVENT

END:VCALENDAR
