BEGIN:VCALENDAR
VERSION:2.0
PRODID:-//ChamberMaster//Event Calendar 2.0//EN
METHOD:PUBLISH
X-PUBLISHED-TTL:P3D
REFRESH-INTERVAL:P3D
CALSCALE:GREGORIAN
BEGIN:VEVENT
DTSTART:20210923T230000Z
DTEND:20210924T010000Z
X-MICROSOFT-CDO-ALLDAYEVENT:FALSE
SUMMARY:DIY Floral Design + Wood Vase Workshop
DESCRIPTION:We're teaming up with the talented Sweet Violet Co. to offer our very first DIY floral arrangement class! You will start by sanding and staining your wooden base and then learn how to design a floral arrangement using real\, fresh florals with Sweet Violet Co.!\n\nSave $5 on your registration if you register by September 1!\n\nRegistration closes on September 14\, 2021\, space is limited. Vase is roughly 8x8x4".
X-ALT-DESC;FMTTYPE=text/html:<p>We&#39\;re teaming up with the talented Sweet Violet Co. to offer our very first DIY floral arrangement class! You will start by sanding and staining your wooden base and then learn how to design a floral arrangement using real\, fresh florals with Sweet Violet Co.!</p>\n\n<p><strong>Save $5 on your registration if you register by September 1!</strong></p>\n\n<p>Registration closes on&nbsp\;<strong>September 14\, 2021\,</strong>&nbsp\;space is limited.&nbsp\;<em>Vase is roughly 8x8x4&quot\;.</em></p>\n
LOCATION:421 Water St #105 Prairie du Sac\, WI 53578
UID:e.1184.26849
SEQUENCE:3
DTSTAMP:20260421T231007Z
URL:http://members.saukprairie.com/events/details/diy-floral-design-wood-vase-workshop-26849
END:VEVENT

END:VCALENDAR
