BEGIN:VCALENDAR
VERSION:2.0
PRODID:-//ChamberMaster//Event Calendar 2.0//EN
METHOD:PUBLISH
X-PUBLISHED-TTL:P3D
REFRESH-INTERVAL:P3D
CALSCALE:GREGORIAN
BEGIN:VEVENT
DTSTART:20200321T150000Z
DTEND:20200321T180000Z
X-MICROSOFT-CDO-ALLDAYEVENT:FALSE
SUMMARY:DIY Gnome Workshop
DESCRIPTION:Celebrate the first day of Spring (March 19) with HBH as we craft the cutest gnomes! Coffee and light breakfast items will be complementary and mimosas will be available for purchase to make this an exciting morning of DIY and relaxation!\n\nYour $45 registration fee covers all of the materials needed to create two gnomes (roughly 14" tall). A variety of fabrics\, yarns\, and other items will be available for you to create gnomes fit your style and decor. The photos shown are spring themed gnomes but we will also have materials to create gnomes that fit in with your decor year round - no two gnomes will look alike! Registration closes on March 19.
X-ALT-DESC;FMTTYPE=text/html:<p>Celebrate the first day of Spring (March 19) with HBH as we craft the cutest gnomes! Coffee and light breakfast items will be complementary and mimosas will be available for purchase to make this an exciting morning of DIY and relaxation!</p>\n\n<p>Your $45 registration fee covers all of the materials needed to create two gnomes (roughly 14&quot\; tall). A variety of fabrics\, yarns\, and other items will be available for you to create gnomes fit your style and decor. The photos shown are spring themed gnomes but we will also have materials to create gnomes that fit in with your decor year round - no two gnomes will look alike!&nbsp\;<strong>Registration closes on March 19.</strong></p>\n
LOCATION:421 Water St #105 Prairie du Sac\, WI 53578
UID:e.1184.24051
SEQUENCE:3
DTSTAMP:20260423T024921Z
URL:http://members.saukprairie.com/events/details/diy-gnome-workshop-24051
END:VEVENT

END:VCALENDAR
