BEGIN:VCALENDAR
VERSION:2.0
PRODID:-//ChamberMaster//Event Calendar 2.0//EN
METHOD:PUBLISH
X-PUBLISHED-TTL:P3D
REFRESH-INTERVAL:P3D
CALSCALE:GREGORIAN
BEGIN:VEVENT
DTSTART:20210805T230000Z
DTEND:20210806T010000Z
X-MICROSOFT-CDO-ALLDAYEVENT:FALSE
SUMMARY:DIY Macrame Wall Hanging Workshop
DESCRIPTION:Add a bit of boho to your decor by creating a macrame wall hanging with us on Thursday\, August 5th! Add a 3D name for an additional fee or leave it as is for a simpler look! If you choose to add a name\, a few proofs will be emailed to you within 48 hours for you to select from. During the workshop you'll be able to completely customize your wall hanging by selecting your stain\, string and paint colors as well as cut the strings in any shape you choose. Registration closes on July 24\, 2021\, space is limited.\nREGISTER HERE
X-ALT-DESC;FMTTYPE=text/html:<span style="font-size:12px"><span style="font-family:tahoma"><span style="color:rgb(0\, 0\, 0)">Add a bit of boho to your decor by creating a macrame wall hanging with us on Thursday\, August 5th! Add a 3D name for an additional fee or leave it as is for a simpler look!</span><strong>&nbsp\;If you choose to add a name\, a few proofs will be emailed to you within 48 hours for you to select from.&nbsp\;</strong><span style="color:rgb(0\, 0\, 0)">During the workshop you&#39\;ll be able to completely customize your wall hanging by selecting your stain\, string and paint colors as well as cut the strings in any shape you choose. Registration closes on July 24\, 2021\, space is limited.</span></span></span>\n<p><a href="https://www.homebyhayley.com/store/p129/macrame-wall-hanging.html#/"><span style="font-size:12px"><span style="font-family:tahoma">REGISTER HERE</span></span></a></p>\n
LOCATION:Home by Hayley 421 Water St #105 Prairie du Sac\, WI 53578
UID:e.1184.26686
SEQUENCE:3
DTSTAMP:20260422T021024Z
URL:http://members.saukprairie.com/events/details/diy-macrame-wall-hanging-workshop-26686
END:VEVENT

END:VCALENDAR
