BEGIN:VCALENDAR
VERSION:2.0
PRODID:-//ChamberMaster//Event Calendar 2.0//EN
METHOD:PUBLISH
X-PUBLISHED-TTL:P3D
REFRESH-INTERVAL:P3D
CALSCALE:GREGORIAN
BEGIN:VEVENT
DTSTART:20190517T230000Z
DTEND:20190518T010000Z
X-MICROSOFT-CDO-ALLDAYEVENT:FALSE
SUMMARY:DIY Sign Workshop - Growth Chart
DESCRIPTION:Reserve your spot at our sip & stain workshop on May 17 to make your own custom Growth Chart! These 6ft signs are such a fun way to document the height of your little ones throughout the years! You will be able to pick your stain and paint colors during the workshop.\n\n \n\nDate: May 17\, 2019\n\nTime: 6:00pm\n\nLocation: HBH Studio
X-ALT-DESC;FMTTYPE=text/html:<p><span style="font-family:arial\,helvetica\,sans-serif"><big><span style="color:rgb(0\, 0\, 0)\; font-size:16px">Reserve your spot at our sip &amp\; stain workshop on May 17 to make your own custom Growth Chart! These 6ft signs are such a fun way to document the height of your little ones throughout the years! You will be able to pick your stain and paint colors during the workshop.</span></big></span><br />\n&nbsp\;</p>\n\n<p><span style="font-family:arial\,helvetica\,sans-serif"><small><big><strong>Date:&nbsp\;</strong>May 17\, 2019<br />\n<strong>Time:&nbsp\;</strong>6:00pm<br />\n<strong>Location:&nbsp\;</strong>HBH Studio</big></small></span></p>\n<br />\n&nbsp\;
LOCATION:421 Water St Suite 105 Prairie du Sac\, WI 53583
UID:e.1184.22230
SEQUENCE:3
DTSTAMP:20260423T171422Z
URL:http://members.saukprairie.com/events/details/diy-sign-workshop-growth-chart-22230
END:VEVENT

END:VCALENDAR
