BEGIN:VCALENDAR
VERSION:2.0
PRODID:-//ChamberMaster//Event Calendar 2.0//EN
METHOD:PUBLISH
X-PUBLISHED-TTL:P3D
REFRESH-INTERVAL:P3D
CALSCALE:GREGORIAN
BEGIN:VEVENT
DTSTART:20190410T230000Z
DTEND:20190411T010000Z
X-MICROSOFT-CDO-ALLDAYEVENT:FALSE
SUMMARY:DIY Wood Sign Workshop
DESCRIPTION:Reserve your spot at our public workshop at The Roxbury Bar & Grill on April 10\, 2019! You will be able to select your stain color and paint colorsduring the workshop. Registration closes on April 3\, 2019.\n\nDate: April 10\, 2019\n\nLocation: The Roxbury Bar & Grill\n\nTime: 6:00pm\n\n\n\nREGISTER HERE
X-ALT-DESC;FMTTYPE=text/html:<p>Reserve your spot at our public workshop at The Roxbury Bar &amp\; Grill on April 10\, 2019! You will be able to select your stain color and paint colorsduring the workshop.&nbsp\;<strong>Registration closes on April 3\, 2019.</strong></p>\n\n<p><strong>Date:&nbsp\;</strong>April 10\, 2019<br />\n<strong>Location:&nbsp\;</strong><a href="https://goo.gl/maps/17vWzDi8r3o" style="color: inherit\; font-weight: 600\; transition: opacity 300ms ease-in-out 0s\;">The Roxbury Bar &amp\; Grill</a><br />\n<strong>Time:&nbsp\;</strong>6:00pm<br />\n<br />\n<a href="https://www.homebyhayley.com/store/p58/Public_Workshop_-_The_Roxbury_Bar_%26_Grill_-_April_10.html#/"><strong>REGISTER HERE</strong></a></p>\n
LOCATION:The Roxbury Bar & Grill Roxbury\, WI
UID:e.1184.22159
SEQUENCE:3
DTSTAMP:20260423T184837Z
URL:http://members.saukprairie.com/events/details/diy-wood-sign-workshop-22159
END:VEVENT

END:VCALENDAR
