BEGIN:VCALENDAR
VERSION:2.0
PRODID:-//ChamberMaster//Event Calendar 2.0//EN
METHOD:PUBLISH
X-PUBLISHED-TTL:P3D
REFRESH-INTERVAL:P3D
CALSCALE:GREGORIAN
BEGIN:VEVENT
DTSTART:20190921T150000Z
DTEND:20190921T173000Z
X-MICROSOFT-CDO-ALLDAYEVENT:FALSE
SUMMARY:DIY Workshop - Fall Door Hangers
DESCRIPTION:Reserve your spot at our workshop on September 21 to make a door hanger just in time for the first day of Fall! You will be able to pick your stain and paint colors during the workshop - as such\, the photos shown are just examples. You will have free reign to customize your sign to suit your tastes. Ribbons and other materials will be provided to make your sign unique.
X-ALT-DESC;FMTTYPE=text/html:<span style="color:rgb(0\, 0\, 0)\; font-family:glegoo\; font-size:16px">Reserve your spot at our workshop on September 21 to make a door hanger just in time for the first day of Fall! You will be able to pick your stain and paint colors during the workshop - as such\, the photos shown are just examples. You will have free reign to customize your sign to suit your tastes. Ribbons and other materials will be provided to make your sign unique.</span>
LOCATION:HBH Studio 421 Water St #105 Prairie du Sac\, WI 53578
UID:e.1184.23154
SEQUENCE:3
DTSTAMP:20260423T113055Z
URL:http://members.saukprairie.com/events/details/diy-workshop-fall-door-hangers-23154
END:VEVENT

END:VCALENDAR
