BEGIN:VCALENDAR
VERSION:2.0
PRODID:-//ChamberMaster//Event Calendar 2.0//EN
METHOD:PUBLISH
X-PUBLISHED-TTL:P3D
REFRESH-INTERVAL:P3D
CALSCALE:GREGORIAN
BEGIN:VEVENT
DTSTART:20161013T220000Z
DTEND:20161014T000000Z
X-MICROSOFT-CDO-ALLDAYEVENT:FALSE
SUMMARY:DMarie Knit & Fiber & EJ Movement Ribbon Cutting Event
DESCRIPTION:Please join D Marie Knit and Fiber for a Ribbon Cutting on Thursday\, October 13 at 5:00pm sharp\n\n\n\nAfterwards\, you are invitedto tour the spaces of both D Marie Knit and Fiber and EJ Movement for their Community Grand Opening.\n\n\n\nPlease RSVP for the Ribbon Cutting to spacc@saukprairie.com
X-ALT-DESC;FMTTYPE=text/html:Please join D Marie Knit and Fiber for a Ribbon Cutting on Thursday\, October 13 at 5:00pm&nbsp\;sharp<br />\n<br />\nAfterwards\, you are invitedto tour the spaces of both&nbsp\;D Marie Knit and Fiber and&nbsp\;EJ Movement for their&nbsp\;Community Grand Opening.<br />\n<br />\nPlease RSVP for the&nbsp\;Ribbon Cutting to&nbsp\;spacc@saukprairie.com
LOCATION:422 Water Street Prairie du Sac\, WI 53578
UID:e.1184.9391
SEQUENCE:3
DTSTAMP:20260425T174048Z
URL:http://members.saukprairie.com/events/details/dmarie-knit-fiber-ej-movement-ribbon-cutting-event-9391
END:VEVENT

END:VCALENDAR
