BEGIN:VCALENDAR
VERSION:2.0
PRODID:-//ChamberMaster//Event Calendar 2.0//EN
METHOD:PUBLISH
X-PUBLISHED-TTL:P3D
REFRESH-INTERVAL:P3D
CALSCALE:GREGORIAN
BEGIN:VEVENT
DTSTART;VALUE=DATE:20200203
DTEND;VALUE=DATE:20200204
TRANSP:TRANSPARENT
X-MICROSOFT-CDO-ALLDAYEVENT:TRUE
SUMMARY:Donate While You Dine!
DESCRIPTION:Donate While You Dine!\n\n\n\nStop in and help support SPHS Puerto Rico 2020
X-ALT-DESC;FMTTYPE=text/html:Donate While You Dine!<br />\n<br />\nStop in and help support SPHS Puerto Rico 2020
LOCATION:Sauk City Culver's 716 Phillips Blvd.\, Sauk City
UID:e.1184.24028
SEQUENCE:3
DTSTAMP:20260423T041014Z
URL:http://members.saukprairie.com/events/details/donate-while-you-dine-24028
END:VEVENT

END:VCALENDAR
