BEGIN:VCALENDAR
VERSION:2.0
PRODID:-//ChamberMaster//Event Calendar 2.0//EN
METHOD:PUBLISH
X-PUBLISHED-TTL:P3D
REFRESH-INTERVAL:P3D
CALSCALE:GREGORIAN
BEGIN:VEVENT
DTSTART:20190615T150000Z
DTEND:20190615T160000Z
X-MICROSOFT-CDO-ALLDAYEVENT:FALSE
SUMMARY:Donuts with Dads
DESCRIPTION:Join us for a special storytime at the Ruth Culver Community Library Saturday\, June 15 at 10:00 a.m.  All are welcome\, but please invite your dad\, grandpa and/or uncles!  Juice\, coffee and donuts will be served. Contact Beth at 643-8318 with questions.
X-ALT-DESC;FMTTYPE=text/html:Join us for a special storytime at the Ruth Culver Community Library Saturday\, June 15 at 10:00 a.m.&nbsp\; All are welcome\, but please invite your dad\, grandpa and/or uncles!&nbsp\; Juice\, coffee and donuts will be served. Contact Beth at 643-8318 with questions.
LOCATION:Ruth Culver Community Library 540 Water Street\, Prairie du Sac
UID:e.1184.22330
SEQUENCE:3
DTSTAMP:20260423T153227Z
URL:http://members.saukprairie.com/events/details/donuts-with-dads-22330
END:VEVENT

END:VCALENDAR
