BEGIN:VCALENDAR
VERSION:2.0
PRODID:-//ChamberMaster//Event Calendar 2.0//EN
METHOD:PUBLISH
X-PUBLISHED-TTL:P3D
REFRESH-INTERVAL:P3D
CALSCALE:GREGORIAN
BEGIN:VEVENT
DTSTART:20241006T160000Z
DTEND:20241006T200000Z
X-MICROSOFT-CDO-ALLDAYEVENT:FALSE
SUMMARY:Dorf Haus Celebrates Oktoberfest with Dorf Kapelle Show Band
DESCRIPTION:Dorf Haus Celebrates Oktoberfest with Dorf Kapelle Show Band and Opening of Outdoor Beirgarten Oct. 6\n\nThe 13-piece Bavarian Show Band\, Dorf Kapelle\, will perform Oct 6\, noon-3 p.m. at the new Dorf Haus Beirgarten and Outdoor Event Space\, Roxbury\, complete with a German buffet at 1:15.  Cost is $65 a person or $500 for a table of eight. Cost is $30 for show only. Grounds open at 11 a.m. German attire is encouraged.\n\nThe Beirgarten\, located behind the Dorf Haus Supper Club\, features a waterfall entrance\, gazebo\, stage\, sweeping willow tree and country views and hills.  \n\nIf weather does not cooperate\, the Oktoberfest event will move indoors in the spacious banquet space with the raised stage where Dorf Kapelle has performed in the past.\n\nFor reservations: (608) 643-3980 or email dorfhaus@chorus.net
X-ALT-DESC;FMTTYPE=text/html:<p>Dorf Haus Celebrates Oktoberfest with Dorf Kapelle Show Band and Opening of Outdoor Beirgarten Oct. 6<o:p></o:p></p>\n\n<p>The 13-piece Bavarian Show Band\, Dorf Kapelle\, will perform Oct 6\, noon-3 p.m. at the new Dorf Haus Beirgarten and Outdoor Event Space\, Roxbury\, complete with a German buffet at 1:15.&nbsp\; Cost is $65 a person or $500 for a table of eight. Cost is $30 for show only. Grounds open at 11 a.m. German attire is encouraged.<o:p></o:p></p>\n\n<p>The Beirgarten\, located behind the Dorf Haus Supper Club\, features a waterfall entrance\, gazebo\, stage\, sweeping willow tree and country views and hills.&nbsp\;&nbsp\;<o:p></o:p></p>\n\n<p>If weather does not cooperate\, the Oktoberfest event will move indoors in the spacious banquet space with the raised stage where Dorf Kapelle has performed in the past.<o:p></o:p></p>\n\n<p>For reservations: (608) 643-3980 or email <strong><a href="mailto:dorfhaus@chorus.net" target="_blank">dorfhaus@chorus.net</a></strong><o:p></o:p></p>\n
LOCATION:Dorf Haus
UID:e.1184.33450
SEQUENCE:3
DTSTAMP:20260419T144304Z
URL:http://members.saukprairie.com/events/details/dorf-haus-celebrates-oktoberfest-with-dorf-kapelle-show-band-33450
END:VEVENT

END:VCALENDAR
