BEGIN:VCALENDAR
VERSION:2.0
PRODID:-//ChamberMaster//Event Calendar 2.0//EN
METHOD:PUBLISH
X-PUBLISHED-TTL:P3D
REFRESH-INTERVAL:P3D
CALSCALE:GREGORIAN
BEGIN:VEVENT
DTSTART;VALUE=DATE:20201126
DTEND;VALUE=DATE:20201127
TRANSP:TRANSPARENT
X-MICROSOFT-CDO-ALLDAYEVENT:TRUE
SUMMARY:Dorf Haus Supper Club Taking Orders for Thanksgiving –To-Go for Celebrating at Home
DESCRIPTION:Dorf Haus Supper Club Taking Orders for Thanksgiving  To-Go for Celebrating at Home \n\n \n\n \n\nTo-Go-Thanksgiving Meal Orders replace the traditional buffet as the Maier family\, owners of the Dorf Haus Supper Club\, Roxbury\, near Sauk City\, cook up safe ways to celebrate the holiday. Thanksgiving dinners are $20 and can be reserved up until Monday\, November 23 at 2 p.m.  for pick up on Thanksgiving Day between 11 a.m.-2:30 p.m.  Exact times will be determined when placing orders by emailing dorfhaus @ chorus.net or texting to 608-516-3053.  \n\n \n\nDorf Haus dressing and gravy\, which has been a popular take out option for many years\, will be available for pick up on Wednesday\, November 25 or Thanksgiving Day.  Cost is $5.95 a pound for dressing and $5 a pint for gravy.\n\n \n\nThe Dorf Haus continues the annual Thanksgiving Day fundraiser by donating a portion of the proceeds to support The Pancreatic Cancer Action Network. (PANCAN) in memory of Betty Maier\, who co-founded the Dorf Haus 61 years ago\, with her late husband\, Vern.  November is pancreatic cancer awareness month.\n\n \n\nAlthough closed for onsite dining on Thanksgiving Day for the buffet which annually attracts more than 800 people\, the Dorf Haus is open Wednesdays through Sundays\, starting at 4:30 p.m. for safe dining inside and take-out.
X-ALT-DESC;FMTTYPE=text/html:<strong><span style="color:black\;"><span style="font-family:times new roman\,serif\;">&nbsp\;Dorf Haus Supper Club Taking Orders for Thanksgiving &ndash\;To-Go for Celebrating at Home </span></span></strong><br />\n&nbsp\;<br />\n&nbsp\;<br />\n<span style="color:black\;"><span style="font-family:times new roman\,serif\;">To-Go-Thanksgiving Meal Orders replace the traditional buffet as the Maier family\, owners of the Dorf Haus Supper Club\, Roxbury\, near Sauk City\, cook up safe ways to celebrate the holiday. Thanksgiving dinners are $20 and can be reserved up until Monday\, November 23 at 2 p.m.&nbsp\; for pick up on Thanksgiving Day between 11 a.m.-2:30 p.m.&nbsp\; Exact times will be determined when placing orders by emailing dorfhaus @ chorus.net or texting to 608-516-3053. &nbsp\;</span></span><br />\n&nbsp\;<br />\n<span style="color:black\;"><span style="font-family:times new roman\,serif\;">Dorf Haus dressing and gravy\, which has been a popular take out option for many years\, will be available for pick up on Wednesday\, November 25 or Thanksgiving Day.&nbsp\; Cost is $5.95 a pound for dressing and $5 a pint for gravy.</span></span><br />\n&nbsp\;<br />\n<span style="color:black\;"><span style="font-family:times new roman\,serif\;">The Dorf Haus continues the annual Thanksgiving Day fundraiser by donating a portion of the proceeds to support The Pancreatic Cancer Action Network. (PANCAN) in memory of Betty Maier\, who co-founded the Dorf Haus 61 years ago\, with her late husband\, Vern. &nbsp\;November is pancreatic cancer awareness month.</span></span><br />\n&nbsp\;<br />\n<span style="color:black\;"><span style="font-family:times new roman\,serif\;">Although closed for onsite dining on Thanksgiving Day for the buffet which annually attracts more than 800 people\, the Dorf Haus is open Wednesdays through Sundays\, starting at 4:30 p.m. for safe dining inside and take-out.&nbsp\;&nbsp\;&nbsp\;&nbsp\;&nbsp\;&nbsp\;&nbsp\; </span></span>
LOCATION:Dorf Haus
UID:e.1184.26143
SEQUENCE:3
DTSTAMP:20260422T135708Z
URL:http://members.saukprairie.com/events/details/dorf-haus-supper-club-taking-orders-for-thanksgiving-to-go-for-celebrating-at-home-26143
END:VEVENT

END:VCALENDAR
