BEGIN:VCALENDAR
VERSION:2.0
PRODID:-//ChamberMaster//Event Calendar 2.0//EN
METHOD:PUBLISH
X-PUBLISHED-TTL:P3D
REFRESH-INTERVAL:P3D
CALSCALE:GREGORIAN
BEGIN:VEVENT
DTSTART:20181122T170000Z
DTEND:20181122T200000Z
X-MICROSOFT-CDO-ALLDAYEVENT:FALSE
SUMMARY:Dorf Haus Thanksgiving Buffet to Support Pancreatic Cancer Research and Awareness
DESCRIPTION:The Maier family\, owners of the Dorf Haus Supper Club\, Roxbury\, near Sauk City\, will serve up an extensive Thanksgiving buffet with 15 per cent of the proceeds to support The Pancreatic Cancer Action Network. (PANCAN). The tenth anniversary of the fundraiser is in memory of Betty Maier\, who co-founded the Dorf Haus 59 years ago\, with her husband\, Vern. \n\n \n\nRebecca Maier-Frey\, one of Betty Maier's nine children and an active partner in managing the Dorf Haus expects more than 700 people. Many Thanksgiving guests who annually attend the fundraiser knew Betty Maier who\, back in 1990\, decided to open the restaurant for Thanksgiving since she was already cooking for a large family and relatives.     \n\n\n\nFunds raised at the Thanksgiving buffet help recruit the brightest scientists with the most innovative ideas so the Pancreatic Cancer Action Network can work toward a cure by funding research\, educating patients and caregivers\, and supporting advocacy efforts. \n\n\n\nThe Thanksgiving feast\, served from 11 a.m.-2 p.m.\, is $18.95 for adults\; $7.95 for ages 5-l2 years old and $4 for children four and under. The buffet  deviates from the popular Bavarian-style Smorgasbord on select Mondays to offer a  traditional Thanksgiving of roast turkey\, baked ham\, chicken\, mashed  potatoes\, sweet potatoes\, glazed carrots\, peppered corn\, cranberries\, salad bar\, pumpkin pie and ice cream. Reservations at 643-3980. www.foodspot.com/dorfhaus.\n\n \n\nThe Pancreatic Cancer Action Network is dedicated to advancing research\, supporting patients and creating hope for those affected by pancreatic cancer. www.pancan.org
X-ALT-DESC;FMTTYPE=text/html:<span style="color:black\;"><span style="font-family:times new roman\,serif\;">The Maier family\, owners of the Dorf Haus Supper Club\, Roxbury\, near Sauk City\,&nbsp\;will serve up an extensive Thanksgiving buffet with 15 per cent of the proceeds to support The Pancreatic Cancer Action Network. (PANCAN). The tenth anniversary of the fundraiser is in memory of Betty Maier\, who co-founded the Dorf Haus 59 years ago\, with her husband\, Vern. </span></span><br />\n&nbsp\;<br />\n<span style="color:black\;"><span style="font-family:times new roman\,serif\;">Rebecca Maier-Frey\, one of Betty Maier&rsquo\;s nine children and an active partner in managing the Dorf Haus expects more than 700 people. Many Thanksgiving guests who annually attend the fundraiser knew Betty Maier who\, back in 1990\, decided to open the restaurant for Thanksgiving since she was already cooking for a large family and relatives. &nbsp\;&nbsp\;&nbsp\;&nbsp\;</span></span><br />\n<br />\n<span style="color:black\;"><span style="font-family:times new roman\,serif\;">Funds raised at the Thanksgiving buffet help recruit the brightest scientists with the most innovative ideas so the Pancreatic Cancer Action Network can work toward a cure by funding research\, educating patients and caregivers\, and supporting advocacy efforts. </span></span><br />\n<br />\n<span style="color:black\;"><span style="font-family:times new roman\,serif\;">The Thanksgiving feast\, served from 11 a.m.-2 p.m.\, is $18.95 for adults\; $7.95 for ages 5-l2 years old and $4 for children four and under. The buffet &nbsp\;deviates from the popular Bavarian-style Smorgasbord on select Mondays to offer a &nbsp\;traditional Thanksgiving of roast turkey\, baked ham\, chicken\, mashed&nbsp\; potatoes\, sweet potatoes\, glazed carrots\, peppered corn\, cranberries\, salad bar\, pumpkin pie and ice cream. Reservations at 643-3980. </span></span><u><span style="color:blue\;"><span style="font-family:times new roman\,serif\;"><a href="http://www.foodspot.com/dorfhaus" title="http://www.foodspot.com/dorfhaus"><span style="color:blue\;">www.foodspot.com/dorfhaus</span></a></span></span></u><span style="color:black\;"><span style="font-family:times new roman\,serif\;">.</span></span><br />\n&nbsp\;<br />\n<span style="color:black\;"><span style="font-family:times new roman\,serif\;">The Pancreatic Cancer Action Network is dedicated to advancing research\, supporting patients and creating hope for those affected by pancreatic cancer. </span></span><u><span style="color:blue\;"><span style="font-family:times new roman\,serif\;"><a href="http://www.pancan.org/" title="http://www.pancan.org/"><span style="color:blue\;">www.pancan.org</span></a></span></span></u>
LOCATION:Dorf Haus
UID:e.1184.21433
SEQUENCE:3
DTSTAMP:20260424T022507Z
URL:http://members.saukprairie.com/events/details/dorf-haus-thanksgiving-buffet-to-support-pancreatic-cancer-research-and-awareness-21433
END:VEVENT

END:VCALENDAR
