BEGIN:VCALENDAR
VERSION:2.0
PRODID:-//ChamberMaster//Event Calendar 2.0//EN
METHOD:PUBLISH
X-PUBLISHED-TTL:P3D
REFRESH-INTERVAL:P3D
CALSCALE:GREGORIAN
BEGIN:VEVENT
DTSTART;VALUE=DATE:20161009
DTEND;VALUE=DATE:20161010
TRANSP:TRANSPARENT
X-MICROSOFT-CDO-ALLDAYEVENT:TRUE
SUMMARY:Dorf Kapelle Show Band Celebrates Oktoberfest at Dorf Haus
DESCRIPTION:The Dorf Haus\, Bavarian  style supper club. Roxbury\, near Sauk City\, keeps Oktoberfest oompah-pah alive on Sunday\, October 9\, when the Dorf Kapelle 16-piece show band takes center stage. A Bavarian buffet including Kasseler Ripchen\, Sauerbraten\, Spatzle\, Red Cabbage\, German Potato Salad and more\, will be served starting at noon with the performance from 1-3 p.m. The bar opens at 10:30 a.m.\n\n \n\nCapturing the traditional ethnic style of a typical European village band\, the Dorf Kapelle Show Band performs waltzes\, marches and polkas using accordions\, trombones\, tubas\, alphorns and more. \n\n \n\nRebecca Maier-Frey\, a co-owner of the family-owned Dorf Haus\, said the Dorf Kapelle\, translated "village band" is an all-time annual favorite and tradition during Oktoberfest. "It's like taking a whirlwind trip back to Europe for the afternoon\," she said.\n\n\n\nThe cost for the dinner and show is $40. Reservations are required by calling the Dorf Haus at (608) 643-3980. www.foodspot.com/dorfhaus
X-ALT-DESC;FMTTYPE=text/html:<span style="font-family:century\,serif\;"><span style="font-size:10.0pt\;">The Dorf Haus\, Bavarian &ndash\;style supper club. Roxbury\, near Sauk City\, </span></span><span style="font-family:century\,serif\;"><span style="font-size:10.0pt\;">keeps Oktoberfest oompah-pah alive on Sunday\, October 9\, </span></span><span style="font-family:century\,serif\;"><span style="font-size:10.0pt\;">when the Dorf Kapelle 16-piece show band takes center stage.&nbsp\;</span></span><span style="font-family:century\,serif\;"><span style="font-size:10.0pt\;">A Bavarian buffet including Kasseler Ripchen\, Sauerbraten\, </span></span><span style="font-family:century\,serif\;"><span style="font-size:10.0pt\;">Spatzle\, Red Cabbage\, German Potato Salad and more\, </span></span><span style="font-family:century\,serif\;"><span style="font-size:10.0pt\;">will be served starting at noon with the performance </span></span><span style="font-family:century\,serif\;"><span style="font-size:10.0pt\;">from 1-3 p.m. The bar opens at 10:30 a.m.</span></span><br />\n&nbsp\;<br />\n<span style="font-family:century\,serif\;"><span style="font-size:10.0pt\;">Capturing the traditional ethnic style of a typical European </span></span><span style="font-family:century\,serif\;"><span style="font-size:10.0pt\;">village band\, the Dorf Kapelle Show Band performs waltzes\, </span></span><span style="font-family:century\,serif\;"><span style="font-size:10.0pt\;">marches and polkas using accordions\, trombones\, tubas\, </span></span><span style="font-family:century\,serif\;"><span style="font-size:10.0pt\;">alphorns and more. </span></span><br />\n&nbsp\;<br />\n<span style="font-family:century\,serif\;"><span style="font-size:10.0pt\;">Rebecca Maier-Frey\, a co-owner of the family-owned Dorf Haus\,</span></span><span style="font-family:century\,serif\;"><span style="font-size:10.0pt\;">&nbsp\;said the Dorf Kapelle\, translated &ldquo\;village band&rdquo\; is an all-time </span></span><span style="font-family:century\,serif\;"><span style="font-size:10.0pt\;">annual favorite and tradition during Oktoberfest. &ldquo\;It&rsquo\;s like taking a </span></span><span style="font-family:century\,serif\;"><span style="font-size:10.0pt\;">whirlwind trip back to Europe for the afternoon\,&rdquo\; she said.</span></span><br />\n<br />\n<span style="font-family:century\,serif\;"><span style="font-size:10.0pt\;">The cost for the dinner and show is $40. Reservations are required</span></span><span style="font-family:century\,serif\;"><span style="font-size:10.0pt\;">&nbsp\;by calling the Dorf Haus at (608) 643-3980. <a href="http://www.foodspot.com/dorfhaus">www.foodspot.com/dorfhaus</a></span></span>
LOCATION:
UID:e.1184.9379
SEQUENCE:3
DTSTAMP:20260425T174548Z
URL:http://members.saukprairie.com/events/details/dorf-kapelle-show-band-celebrates-oktoberfest-at-dorf-haus-9379
END:VEVENT

END:VCALENDAR
